Workbook

Sheet НОО 1 полугодие
A1: Приложение № 1 к приказу №57/12 от 01.09.2026 г. ГРАФИК оценочных процедур на 2026/2027 учебный год НАЧАЛЬНОЕ ОБЩЕЕ ОБРАЗОВАНИЕ I полугодие
A2: Период проведения оценочной процедуры | B2: Сентябрь | E2: Октябрь | H2: Ноябрь | K2: Декабрь | N2: Всего
B3: Федеральные оценочные процедуры | C3: Оценочные процедуры по инициативе ОО (стартовая диагностика) | D3: Всего | E3: Федеральные оценочные процедуры | F3: Оценочные процедуры по инициативе ОО | G3: Всего | H3: Федеральные оценочные процедуры | I3: Оценочные процедуры по инициативе ОО | J3: Всего | K3: Федеральные оценочные процедуры | L3: Оценочные процедуры по инициативе ОО | M3: Всего | N3: В I полугодии 2025-2026 учебного года
A4: 1 классы
A5: Русский язык | C5: 1 | D5: 1 | G5: 0 | J5: 0 | L5: 1 | M5: 1 | N5: 2
A6: Литературное чтение | C6: 1 | D6: 1 | G6: 0 | J6: 0 | L6: 1 | M6: 1 | N6: 2
A7: Математика | C7: 1 | D7: 1 | G7: 0 | J7: 0 | L7: 1 | M7: 1 | N7: 2
A8: Окружающий мир | C8: 1 | D8: 1 | G8: 0 | J8: 0 | L8: 1 | M8: 1 | N8: 2
A9: Труд (технология) | D9: 0 | G9: 0 | J9: 0 | M9: 0 | N9: 0
A10: Изобразительное искусство | D10: 0 | G10: 0 | J10: 0 | M10: 0 | N10: 0
A11: Музыка | D11: 0 | G11: 0 | J11: 0 | M11: 0 | N11: 0
A12: Физическая культура | D12: 0 | G12: 0 | J12: 0 | M12: 0 | N12: 0
A13: 2 классы
A14: Русский язык | C14: 2 | D14: 2 | F14: 2 | G14: 2 | I14: 1 | J14: 1 | L14: 2 | M14: 2 | N14: 7
A15: Литературное чтение | C15: 1 | D15: 1 | F15: 1 | G15: 1 | I15: 1 | J15: 1 | L15: 1 | M15: 1 | N15: 4
A16: Иностранный язык (английский) | C16: 1 | D16: 1 | F16: 0 | G16: 0 | I16: 1 | J16: 1 | L16: 1 | M16: 1 | N16: 3
A17: Математика | C17: 2 | D17: 2 | F17: 2 | G17: 2 | I17: 1 | J17: 1 | L17: 1 | M17: 1 | N17: 6
A18: Окружающий мир | C18: 1 | D18: 1 | F18: 0 | G18: 0 | I18: 1 | J18: 1 | L18: 1 | M18: 1 | N18: 3
A19: Труд (технология) | C19: 1 | D19: 1 | F19: 0 | G19: 0 | I19: 0 | J19: 0 | L19: 1 | M19: 1 | N19: 2
A20: Изобразительное искусство | C20: 1 | D20: 1 | F20: 0 | G20: 0 | I20: 0 | J20: 0 | L20: 1 | M20: 1 | N20: 2
A21: Музыка | C21: 1 | D21: 1 | F21: 0 | G21: 0 | I21: 0 | J21: 0 | L21: 1 | M21: 1 | N21: 2
A22: Физическая культура | C22: 1 | D22: 1 | F22: 0 | G22: 0 | I22: 0 | J22: 0 | L22: 0 | M22: 0 | N22: 1
A23: 3 классы
A24: Русский язык | C24: 1 | D24: 1 | F24: 1 | G24: 1 | I24: 2 | J24: 2 | L24: 2 | M24: 2 | N24: 6
A25: Литературное чтение | C25: 1 | D25: 1 | F25: 1 | G25: 1 | I25: 1 | J25: 1 | L25: 1 | M25: 1 | N25: 4
A26: Иностранный язык (английский) | C26: 1 | D26: 1 | F26: 0 | G26: 0 | I26: 1 | J26: 1 | L26: 0 | M26: 0 | N26: 2
A27: Математика | C27: 2 | D27: 2 | F27: 2 | G27: 2 | I27: 1 | J27: 1 | L27: 1 | M27: 1 | N27: 6
A28: Окружающий мир | C28: 1 | D28: 1 | F28: 0 | G28: 0 | I28: 1 | J28: 1 | L28: 1 | M28: 1 | N28: 3
A29: Труд (технология) | C29: 1 | D29: 1 | F29: 0 | G29: 0 | I29: 0 | J29: 0 | L29: 1 | M29: 1 | N29: 2
A30: Изобразительное искусство | C30: 1 | D30: 1 | F30: 0 | G30: 0 | I30: 0 | J30: 0 | L30: 1 | M30: 1 | N30: 2
A31: Музыка | C31: 1 | D31: 1 | F31: 0 | G31: 0 | I31: 0 | J31: 0 | L31: 1 | M31: 1 | N31: 2
A32: Физическая культура | C32: 1 | D32: 1 | F32: 0 | G32: 0 | I32: 0 | J32: 0 | L32: 0 | M32: 0 | N32: 1
A33: 4 классы
A34: Русский язык | C34: 2 | D34: 2 | F34: 1 | G34: 1 | I34: 2 | J34: 2 | L34: 2 | M34: 2 | N34: 7
A35: Литературное чтение | C35: 1 | D35: 1 | F35: 1 | G35: 1 | I35: 1 | J35: 1 | L35: 1 | M35: 1 | N35: 4
A36: Иностранный язык (английский) | C36: 1 | D36: 1 | F36: 1 | G36: 1 | I36: 0 | J36: 0 | L36: 0 | M36: 0 | N36: 2
A37: Математика | C37: 1 | D37: 1 | F37: 2 | G37: 2 | I37: 1 | J37: 1 | L37: 1 | M37: 1 | N37: 5
A38: Окружающий мир | C38: 1 | D38: 1 | F38: 0 | G38: 0 | I38: 1 | J38: 1 | L38: 1 | M38: 1 | N38: 3
A39: Труд (технология) | C39: 1 | D39: 1 | F39: 0 | G39: 0 | I39: 0 | J39: 0 | L39: 1 | M39: 1 | N39: 2
A40: Изобразительное искусство | C40: 1 | D40: 1 | F40: 0 | G40: 0 | I40: 0 | J40: 0 | L40: 1 | M40: 1 | N40: 2
A41: Музыка | C41: 1 | D41: 1 | F41: 0 | G41: 0 | I41: 0 | J41: 0 | L41: 1 | M41: 1 | N41: 2
A42: Физическая культура | C42: 1 | D42: 1 | F42: 0 | G42: 0 | I42: 0 | J42: 0 | L42: 0 | M42: 0 | N42: 1
A43: ОРКСЭ | C43: 1 | D43: 1 | F43: 0 | G43: 0 | I43: 0 | J43: 0 | L43: 1 | M43: 1 | N43: 2

Sheet НОО 2 полугодие
A1: ГРАФИК оценочных процедур на 2026/2027 учебный год НАЧАЛЬНОЕ ОБЩЕЕ ОБРАЗОВАНИЕ II полугодие
A2: Период проведения оценочной процедуры | B2: Январь | E2: Февраль | H2: Март | K2: Апрель | N2: Май | Q2: Всего
B3: Федеральные оценочные процедуры | C3: Оценочные процедуры по инициативе ОО | D3: Всего | E3: Федеральные оценочные процедуры | F3: Оценочные процедуры по инициативе ОО | G3: Всего | H3: Федеральные оценочные процедуры | I3: Оценочные процедуры по инициативе ОО | J3: Всего | K3: Федеральные оценочные процедуры | L3: Оценочные процедуры по инициативе ОО | M3: Всего | N3: Федеральные оценочные процедуры | O3: Оценочные процедуры по инициативе ОО | P3: Всего | Q3: Во II полугодии 2025-2026 учебного года | R3: Всего оценочных процедур за 2025-2026 учебный год | S3: Кол-во часов по учебному плану | T3: Процентное соотношение кол-ва оценочных процедур к кол-ву часов УП, в %
A4: 1 классы
A5: Русский язык | C5: 0 | D5: 0 | G5: 0 | J5: 0 | M5: 0 | O5: 1 | P5: 1 | Q5: 1 | R5: =Q5+'НОО 1 полугодие'!N5 -> 3 | S5: 165 | T5: =R5/S5 -> 0.018181818
A6: Литературное чтение | C6: 0 | D6: 0 | G6: 0 | J6: 0 | M6: 0 | O6: 1 | P6: 1 | Q6: 1 | R6: =Q6+'НОО 1 полугодие'!N6 -> 3 | S6: 132 | T6: =R6/S6 -> 0.022727273
A7: Математика | C7: 0 | D7: 0 | G7: 0 | J7: 0 | M7: 0 | O7: 1 | P7: 1 | Q7: 1 | R7: =Q7+'НОО 1 полугодие'!N7 -> 3 | S7: 132 | T7: =R7/S7 -> 0.022727273
A8: Окружающий мир | C8: 0 | D8: 0 | G8: 0 | J8: 0 | M8: 0 | O8: 1 | P8: 1 | Q8: 1 | R8: =Q8+'НОО 1 полугодие'!N8 -> 3 | S8: 66 | T8: =R8/S8 -> 0.045454545
A9: Труд (технология) | D9: 0 | G9: 0 | J9: 0 | M9: 0 | P9: 0 | Q9: 0 | R9: =Q9+'НОО 1 полугодие'!N9 -> 0 | S9: 33 | T9: =R9/S9 -> 0
A10: Изобразительное искусство | D10: 0 | G10: 0 | J10: 0 | M10: 0 | P10: 0 | Q10: 0 | R10: =Q10+'НОО 1 полугодие'!N10 -> 0 | S10: 33 | T10: =R10/S10 -> 0
A11: Музыка | D11: 0 | G11: 0 | J11: 0 | M11: 0 | P11: 0 | Q11: 0 | R11: =Q11+'НОО 1 полугодие'!N11 -> 0 | S11: 33 | T11: =R11/S11 -> 0
A12: Физическая культура | D12: 0 | G12: 0 | J12: 0 | M12: 0 | P12: 0 | Q12: 0 | R12: =Q12+'НОО 1 полугодие'!N12 -> 0 | S12: 66 | T12: =R12/S12 -> 0
A13: 2 классы
A14: Русский язык | C14: 3 | D14: 3 | F14: 2 | G14: 2 | I14: 1 | J14: 1 | L14: 2 | M14: 2 | O14: 2 | P14: 2 | Q14: 10 | R14: =Q14+'НОО 1 полугодие'!N14 -> 17 | S14: 170 | T14: =R14/S14 -> 0.1
A15: Литературное чтение | C15: 1 | D15: 1 | F15: 1 | G15: 1 | I15: 1 | J15: 1 | L15: 2 | M15: 2 | O15: 2 | P15: 2 | Q15: 7 | R15: =Q15+'НОО 1 полугодие'!N15 -> 11 | S15: 136 | T15: =R15/S15 -> 0.080882353
A16: Иностранный язык (английский) | C16: 0 | D16: 0 | F16: 1 | G16: 1 | I16: 0 | J16: 0 | L16: 1 | M16: 1 | O16: 1 | P16: 1 | Q16: 3 | R16: =Q16+'НОО 1 полугодие'!N16 -> 6 | S16: 68 | T16: =R16/S16 -> 0.088235294
A17: Математика | C17: 1 | D17: 1 | F17: 1 | G17: 1 | I17: 1 | J17: 1 | L17: 2 | M17: 2 | O17: 1 | P17: 1 | Q17: 6 | R17: =Q17+'НОО 1 полугодие'!N17 -> 12 | S17: 136 | T17: =R17/S17 -> 0.088235294
A18: Окружающий мир | C18: 1 | D18: 1 | F18: 0 | G18: 0 | I18: 0 | J18: 0 | L18: 1 | M18: 1 | O18: 1 | P18: 1 | Q18: 3 | R18: =Q18+'НОО 1 полугодие'!N18 -> 6 | S18: 68 | T18: =R18/S18 -> 0.088235294
A19: Труд (технология) | C19: 0 | D19: 0 | F19: 0 | G19: 0 | I19: 0 | J19: 0 | L19: 1 | M19: 1 | O19: 0 | P19: 0 | Q19: 1 | R19: =Q19+'НОО 1 полугодие'!N19 -> 3 | S19: 34 | T19: =R19/S19 -> 0.088235294
A20: Изобразительное искусство | C20: 0 | D20: 0 | F20: 0 | G20: 0 | I20: 0 | J20: 0 | L20: 0 | M20: 0 | O20: 1 | P20: 1 | Q20: 1 | R20: =Q20+'НОО 1 полугодие'!N20 -> 3 | S20: 34 | T20: =R20/S20 -> 0.088235294
A21: Музыка | C21: 0 | D21: 0 | F21: 0 | G21: 0 | I21: 0 | J21: 0 | L21: 0 | M21: 0 | O21: 1 | P21: 1 | Q21: 1 | R21: =Q21+'НОО 1 полугодие'!N21 -> 3 | S21: 34 | T21: =R21/S21 -> 0.088235294
A22: Физическая культура | C22: 0 | D22: 0 | F22: 0 | G22: 0 | I22: 0 | J22: 0 | L22: 0 | M22: 0 | O22: 1 | P22: 1 | Q22: 1 | R22: =Q22+'НОО 1 полугодие'!N22 -> 2 | S22: 68 | T22: =R22/S22 -> 0.029411765
A23: 3 классы
A24: Русский язык | C24: 1 | D24: 1 | F24: 2 | G24: 2 | I24: 2 | J24: 2 | L24: 2 | M24: 2 | O24: 2 | P24: 2 | Q24: 9 | R24: =Q24+'НОО 1 полугодие'!N24 -> 15 | S24: 170 | T24: =R24/S24 -> 0.088235294
A25: Литературное чтение | C25: 1 | D25: 1 | F25: 1 | G25: 1 | I25: 2 | J25: 2 | L25: 1 | M25: 1 | O25: 2 | P25: 2 | Q25: 7 | R25: =Q25+'НОО 1 полугодие'!N25 -> 11 | S25: 136 | T25: =R25/S25 -> 0.080882353
A26: Иностранный язык (английский) | C26: 0 | D26: 0 | F26: 1 | G26: 1 | I26: 0 | J26: 0 | L26: 1 | M26: 1 | O26: 0 | P26: 0 | Q26: 2 | R26: =Q26+'НОО 1 полугодие'!N26 -> 4 | S26: 68 | T26: =R26/S26 -> 0.058823529
A27: Математика | C27: 1 | D27: 1 | F27: 2 | G27: 2 | I27: 1 | J27: 1 | L27: 2 | M27: 2 | O27: 1 | P27: 1 | Q27: 7 | R27: =Q27+'НОО 1 полугодие'!N27 -> 13 | S27: 136 | T27: =R27/S27 -> 0.095588235
A28: Окружающий мир | C28: 0 | D28: 0 | F28: 1 | G28: 1 | I28: 0 | J28: 0 | L28: 1 | M28: 1 | O28: 1 | P28: 1 | Q28: 3 | R28: =Q28+'НОО 1 полугодие'!N28 -> 6 | S28: 68 | T28: =R28/S28 -> 0.088235294
A29: Труд (технология) | C29: 0 | D29: 0 | F29: 0 | G29: 0 | I29: 0 | J29: 0 | L29: 1 | M29: 1 | O29: 0 | P29: 0 | Q29: 1 | R29: =Q29+'НОО 1 полугодие'!N29 -> 3 | S29: 34 | T29: =R29/S29 -> 0.088235294
A30: Изобразительное искусство | C30: 0 | D30: 0 | F30: 0 | G30: 0 | I30: 0 | J30: 0 | L30: 1 | M30: 1 | O30: 0 | P30: 0 | Q30: 1 | R30: =Q30+'НОО 1 полугодие'!N30 -> 3 | S30: 34 | T30: =R30/S30 -> 0.088235294
A31: Музыка | C31: 0 | D31: 0 | F31: 0 | G31: 0 | I31: 0 | J31: 0 | L31: 1 | M31: 1 | O31: 0 | P31: 0 | Q31: 1 | R31: =Q31+'НОО 1 полугодие'!N31 -> 3 | S31: 34 | T31: =R31/S31 -> 0.088235294
A32: Физическая культура | C32: 0 | D32: 0 | F32: 0 | G32: 0 | I32: 0 | J32: 0 | L32: 0 | M32: 0 | O32: 1 | P32: 1 | Q32: 1 | R32: =Q32+'НОО 1 полугодие'!N32 -> 2 | S32: 68 | T32: =R32/S32 -> 0.029411765
A33: 4 классы
A34: Русский язык | C34: 1 | D34: 1 | F34: 1 | G34: 1 | I34: 1 | J34: 1 | K34: 1 | L34: 1 | M34: 2 | O34: 2 | P34: 2 | Q34: 7 | R34: =Q34+'НОО 1 полугодие'!N34 -> 14 | S34: 170 | T34: =R34/S34 -> 0.082352941
A35: Литературное чтение | C35: 1 | D35: 1 | F35: 1 | G35: 1 | I35: 1 | J35: 1 | K35: 1 | M35: 1 | O35: 1 | P35: 1 | Q35: 4 | R35: =Q35+'НОО 1 полугодие'!N35 -> 8 | S35: 136 | T35: =R35/S35 -> 0.058823529
A36: Иностранный язык (английский) | C36: 0 | D36: 0 | F36: 1 | G36: 1 | I36: 0 | J36: 0 | K36: 1 | M36: 1 | O36: 0 | P36: 0 | Q36: 2 | R36: =Q36+'НОО 1 полугодие'!N36 -> 4 | S36: 68 | T36: =R36/S36 -> 0.058823529
A37: Математика | C37: 1 | D37: 1 | F37: 2 | G37: 2 | I37: 2 | J37: 2 | K37: 1 | L37: 1 | M37: 2 | O37: 1 | P37: 1 | Q37: 8 | R37: =Q37+'НОО 1 полугодие'!N37 -> 13 | S37: 136 | T37: =R37/S37 -> 0.095588235
A38: Окружающий мир | C38: 0 | D38: 0 | F38: 1 | G38: 1 | I38: 0 | J38: 0 | K38: 1 | M38: 1 | O38: 1 | P38: 1 | Q38: 3 | R38: =Q38+'НОО 1 полугодие'!N38 -> 6 | S38: 68 | T38: =R38/S38 -> 0.088235294
A39: Труд (технология) | C39: 0 | D39: 0 | F39: 0 | G39: 0 | I39: 0 | J39: 0 | L39: 1 | M39: 1 | O39: 0 | P39: 0 | Q39: 1 | R39: =Q39+'НОО 1 полугодие'!N39 -> 3 | S39: 34 | T39: =R39/S39 -> 0.088235294
A40: Изобразительное искусство | C40: 0 | D40: 0 | F40: 0 | G40: 0 | I40: 0 | J40: 0 | L40: 1 | M40: 1 | O40: 0 | P40: 0 | Q40: 1 | R40: =Q40+'НОО 1 полугодие'!N40 -> 3 | S40: 34 | T40: =R40/S40 -> 0.088235294
A41: Музыка | C41: 0 | D41: 0 | F41: 0 | G41: 0 | I41: 0 | J41: 0 | L41: 1 | M41: 1 | O41: 0 | P41: 0 | Q41: 1 | R41: =Q41+'НОО 1 полугодие'!N41 -> 3 | S41: 34 | T41: =R41/S41 -> 0.088235294
A42: Физическая культура | C42: 0 | D42: 0 | F42: 0 | G42: 0 | I42: 0 | J42: 0 | L42: 0 | M42: 0 | O42: 1 | P42: 1 | Q42: 1 | R42: =Q42+'НОО 1 полугодие'!N42 -> 2 | S42: 68 | T42: =R42/S42 -> 0.029411765
A43: ОРКСЭ | C43: 0 | D43: 0 | F43: 0 | G43: 0 | I43: 0 | J43: 0 | L43: 0 | M43: 0 | O43: 0 | P43: 1 | Q43: 1 | R43: =Q43+'НОО 1 полугодие'!N43 -> 3 | S43: 34 | T43: =R43/S43 -> 0.088235294

Sheet ООО 1 полугодие
A1: Приложение № 2 к приказу №57/12 от 01.09.2026 г. ГРАФИК оценочных процедур на 2026/2027 учебный год ОСНОВНОЕ ОБЩЕЕ ОБРАЗОВАНИЕ I полугодие
A2: Период проведения оценочной процедуры | B2: Сентябрь | E2: Октябрь | H2: Ноябрь | K2: Декабрь | N2: Всего
B3: Федеральные оценочные процедуры | C3: Оценочные процедуры по инициативе ОО (стартовая диагностика) | D3: Всего | E3: Федеральные оценочные процедуры | F3: Оценочные процедуры по инициативе ОО | G3: Всего | H3: Федеральные оценочные процедуры | I3: Оценочные процедуры по инициативе ОО | J3: Всего | K3: Федеральные оценочные процедуры | L3: Оценочные процедуры по инициативе ОО | M3: Всего | N3: В I полугодии 2025-2026 учебного года
A4: 5 классы
A5: Русский язык | C5: 1 | D5: =B5+C5 -> 1 | F5: 1 | G5: =E5+F5 -> 1 | I5: 1 | J5: =H5+I5 -> 1 | L5: 2 | M5: =K5+L5 -> 2 | N5: =D5+G5+J5+M5 -> 5
A6: Литература | C6: 1 | D6: =B6+C6 -> 1 | G6: =E6+F6 -> 0 | J6: =H6+I6 -> 0 | L6: 1 | M6: =K6+L6 -> 1 | N6: =D6+G6+J6+M6 -> 2
A7: Иностранный язык (английский) | C7: 1 | D7: =B7+C7 -> 1 | F7: 1 | G7: =E7+F7 -> 1 | I7: 1 | J7: =H7+I7 -> 1 | L7: 1 | M7: =K7+L7 -> 1 | N7: =D7+G7+J7+M7 -> 4 | O7: к.р. по КТП
A8: Математика | C8: 2 | D8: =B8+C8 -> 2 | F8: 1 | G8: =E8+F8 -> 1 | I8: 2 | J8: =H8+I8 -> 2 | L8: 1 | M8: =K8+L8 -> 1 | N8: =D8+G8+J8+M8 -> 6
A9: История | C9: 1 | D9: =B9+C9 -> 1 | G9: =E9+F9 -> 0 | J9: =H9+I9 -> 0 | M9: =K9+L9 -> 0 | N9: =D9+G9+J9+M9 -> 1
A10: География | C10: 1 | D10: =B10+C10 -> 1 | G10: =E10+F10 -> 0 | J10: =H10+I10 -> 0 | M10: =K10+L10 -> 0 | N10: =D10+G10+J10+M10 -> 1
A11: Биология | C11: 1 | D11: =B11+C11 -> 1 | G11: =E11+F11 -> 0 | J11: =H11+I11 -> 0 | M11: =K11+L11 -> 0 | N11: =D11+G11+J11+M11 -> 1
A12: Труд (технология) | C12: 1 | D12: =B12+C12 -> 1 | G12: =E12+F12 -> 0 | J12: =H12+I12 -> 0 | M12: =K12+L12 -> 0 | N12: =D12+G12+J12+M12 -> 1
A13: Изобразительное искусство | C13: 1 | D13: =B13+C13 -> 1 | G13: =E13+F13 -> 0 | J13: =H13+I13 -> 0 | M13: =K13+L13 -> 0 | N13: =D13+G13+J13+M13 -> 1
A14: Музыка | C14: 1 | D14: =B14+C14 -> 1 | G14: =E14+F14 -> 0 | J14: =H14+I14 -> 0 | M14: =K14+L14 -> 0 | N14: =D14+G14+J14+M14 -> 1
A15: Физическая культура | C15: 1 | D15: =B15+C15 -> 1 | G15: =E15+F15 -> 0 | J15: =H15+I15 -> 0 | M15: =K15+L15 -> 0 | N15: =D15+G15+J15+M15 -> 1
A16: 6 классы
A17: Русский язык | C17: 1 | D17: =B17+C17 -> 1 | F17: 1 | G17: =E17+F17 -> 1 | I17: 2 | J17: =H17+I17 -> 2 | L17: 2 | M17: =K17+L17 -> 2 | N17: =D17+G17+J17+M17 -> 6
A18: Литература | D18: =B18+C18 -> 0 | G18: =E18+F18 -> 0 | J18: =H18+I18 -> 0 | L18: 1 | M18: =K18+L18 -> 1 | N18: =D18+G18+J18+M18 -> 1
A19: Иностранный язык (английский) | D19: =B19+C19 -> 0 | F19: 2 | G19: =E19+F19 -> 2 | I19: 1 | J19: =H19+I19 -> 1 | L19: 2 | M19: =K19+L19 -> 2 | N19: =D19+G19+J19+M19 -> 5
A20: Математика | C20: 1 | D20: =B20+C20 -> 1 | F20: 1 | G20: =E20+F20 -> 1 | I20: 1 | J20: =H20+I20 -> 1 | L20: 2 | M20: =K20+L20 -> 2 | N20: =D20+G20+J20+M20 -> 5
A21: История | D21: =B21+C21 -> 0 | G21: =E21+F21 -> 0 | J21: =H21+I21 -> 0 | M21: =K21+L21 -> 0 | N21: =D21+G21+J21+M21 -> 0
A22: География | D22: =B22+C22 -> 0 | G22: =E22+F22 -> 0 | J22: =H22+I22 -> 0 | M22: =K22+L22 -> 0 | N22: =D22+G22+J22+M22 -> 0
A23: Биология | D23: =B23+C23 -> 0 | G23: =E23+F23 -> 0 | J23: =H23+I23 -> 0 | M23: =K23+L23 -> 0 | N23: =D23+G23+J23+M23 -> 0
A24: Труд (технология) | D24: =B24+C24 -> 0 | G24: =E24+F24 -> 0 | J24: =H24+I24 -> 0 | M24: =K24+L24 -> 0 | N24: =D24+G24+J24+M24 -> 0
A25: Изобразительное искусство | D25: =B25+C25 -> 0 | G25: =E25+F25 -> 0 | J25: =H25+I25 -> 0 | M25: =K25+L25 -> 0 | N25: =D25+G25+J25+M25 -> 0
A26: Музыка | D26: =B26+C26 -> 0 | G26: =E26+F26 -> 0 | J26: =H26+I26 -> 0 | M26: =K26+L26 -> 0 | N26: =D26+G26+J26+M26 -> 0
A27: Физическая культура | D27: =B27+C27 -> 0 | G27: =E27+F27 -> 0 | J27: =H27+I27 -> 0 | M27: =K27+L27 -> 0 | N27: =D27+G27+J27+M27 -> 0
A28: 7 классы
A29: Русский язык | C29: 2 | D29: =B29+C29 -> 2 | F29: 2 | G29: =E29+F29 -> 2 | I29: 2 | J29: =H29+I29 -> 2 | L29: 2 | M29: =K29+L29 -> 2 | N29: =D29+G29+J29+M29 -> 8
A30: Литература | D30: =B30+C30 -> 0 | G30: =E30+F30 -> 0 | J30: =H30+I30 -> 0 | M30: =K30+L30 -> 0 | N30: =D30+G30+J30+M30 -> 0
A31: Иностранный язык (английский) | C31: 2 | D31: =B31+C31 -> 2 | G31: =E31+F31 -> 0 | I31: 2 | J31: =H31+I31 -> 2 | L31: 1 | M31: =K31+L31 -> 1 | N31: =D31+G31+J31+M31 -> 5 | O31: к.р. по КТП
A32: Алгебра | C32: 1 | D32: =B32+C32 -> 1 | G32: =E32+F32 -> 0 | J32: =H32+I32 -> 0 | L32: 1 | M32: =K32+L32 -> 1 | N32: =D32+G32+J32+M32 -> 2
A33: Геометрия | D33: =B33+C33 -> 0 | G33: =E33+F33 -> 0 | J33: =H33+I33 -> 0 | M33: =K33+L33 -> 0 | N33: =D33+G33+J33+M33 -> 0
A34: Вероятность и статистика | D34: =B34+C34 -> 0 | G34: =E34+F34 -> 0 | J34: =H34+I34 -> 0 | L34: 1 | M34: =K34+L34 -> 1 | N34: =D34+G34+J34+M34 -> 1
A35: История | D35: =B35+C35 -> 0 | G35: =E35+F35 -> 0 | J35: =H35+I35 -> 0 | M35: =K35+L35 -> 0 | N35: =D35+G35+J35+M35 -> 0
A36: География | D36: =B36+C36 -> 0 | G36: =E36+F36 -> 0 | J36: =H36+I36 -> 0 | M36: =K36+L36 -> 0 | N36: =D36+G36+J36+M36 -> 0
A37: Биология | D37: =B37+C37 -> 0 | G37: =E37+F37 -> 0 | J37: =H37+I37 -> 0 | M37: =K37+L37 -> 0 | N37: =D37+G37+J37+M37 -> 0
A38: Труд (технология) | D38: =B38+C38 -> 0 | G38: =E38+F38 -> 0 | J38: =H38+I38 -> 0 | M38: =K38+L38 -> 0 | N38: =D38+G38+J38+M38 -> 0
A39: Информатика (углубление) | C39: 1 | D39: =B39+C39 -> 1 | F39: 1 | G39: =E39+F39 -> 1 | J39: =H39+I39 -> 0 | L39: 1 | M39: =K39+L39 -> 1 | N39: =D39+G39+J39+M39 -> 3
A40: Физика | C40: 1 | D40: =B40+C40 -> 1 | G40: =E40+F40 -> 0 | J40: =H40+I40 -> 0 | L40: 1 | M40: =K40+L40 -> 1 | N40: =D40+G40+J40+M40 -> 2
A41: Изобразительное искусство | D41: =B41+C41 -> 0 | G41: =E41+F41 -> 0 | J41: =H41+I41 -> 0 | M41: =K41+L41 -> 0 | N41: =D41+G41+J41+M41 -> 0
A42: Музыка | D42: =B42+C42 -> 0 | G42: =E42+F42 -> 0 | J42: =H42+I42 -> 0 | M42: =K42+L42 -> 0 | N42: =D42+G42+J42+M42 -> 0
A43: Физическая культура | D43: =B43+C43 -> 0 | G43: =E43+F43 -> 0 | J43: =H43+I43 -> 0 | M43: =K43+L43 -> 0 | N43: =D43+G43+J43+M43 -> 0
A44: 8 классы
A45: Русский язык | C45: 1 | D45: =B45+C45 -> 1 | F45: 2 | G45: =E45+F45 -> 2 | J45: =H45+I45 -> 0 | L45: 1 | M45: =K45+L45 -> 1 | N45: =D45+G45+J45+M45 -> 4
A46: Литература | D46: =B46+C46 -> 0 | G46: =E46+F46 -> 0 | J46: =H46+I46 -> 0 | L46: 1 | M46: =K46+L46 -> 1 | N46: =D46+G46+J46+M46 -> 1
A47: Иностранный язык (английский) | C47: 1 | D47: =B47+C47 -> 1 | F47: 1 | G47: =E47+F47 -> 1 | I47: 1 | J47: =H47+I47 -> 1 | M47: =K47+L47 -> 0 | N47: =D47+G47+J47+M47 -> 3 | O47: к.р. по КТП
A48: Алгебра | D48: =B48+C48 -> 0 | G48: =E48+F48 -> 0 | I48: 1 | J48: =H48+I48 -> 1 | L48: 1 | M48: =K48+L48 -> 1 | N48: =D48+G48+J48+M48 -> 2
A49: Геометрия | D49: =B49+C49 -> 0 | F49: 1 | G49: =E49+F49 -> 1 | J49: =H49+I49 -> 0 | L49: 1 | M49: =K49+L49 -> 1 | N49: =D49+G49+J49+M49 -> 2
A50: Вероятность и статистика | D50: =B50+C50 -> 0 | G50: =E50+F50 -> 0 | J50: =H50+I50 -> 0 | L50: 1 | M50: =K50+L50 -> 1 | N50: =D50+G50+J50+M50 -> 1
A51: История | D51: =B51+C51 -> 0 | G51: =E51+F51 -> 0 | I51: 1 | J51: =H51+I51 -> 1 | M51: =K51+L51 -> 0 | N51: =D51+G51+J51+M51 -> 1
A52: География | D52: =B52+C52 -> 0 | G52: =E52+F52 -> 0 | J52: =H52+I52 -> 0 | M52: =K52+L52 -> 0 | N52: =D52+G52+J52+M52 -> 0
A53: Биология | D53: =B53+C53 -> 0 | G53: =E53+F53 -> 0 | J53: =H53+I53 -> 0 | M53: =K53+L53 -> 0 | N53: =D53+G53+J53+M53 -> 0
A54: Труд (технология) | D54: =B54+C54 -> 0 | G54: =E54+F54 -> 0 | J54: =H54+I54 -> 0 | M54: =K54+L54 -> 0 | N54: =D54+G54+J54+M54 -> 0
A55: Информатика (база) | D55: =B55+C55 -> 0 | G55: =E55+F55 -> 0 | J55: =H55+I55 -> 0 | L55: 1 | M55: =K55+L55 -> 1 | N55: =D55+G55+J55+M55 -> 1
A56: Информатика (углубление) | D56: =B56+C56 -> 0 | G56: =E56+F56 -> 0 | J56: =H56+I56 -> 0 | M56: =K56+L56 -> 0 | N56: =D56+G56+J56+M56 -> 0
A57: Физика | D57: =B57+C57 -> 0 | G57: =E57+F57 -> 0 | J57: =H57+I57 -> 0 | L57: 1 | M57: =K57+L57 -> 1 | N57: =D57+G57+J57+M57 -> 1
A58: Химия | C58: 1 | D58: =B58+C58 -> 1 | G58: =E58+F58 -> 0 | I58: 1 | J58: =H58+I58 -> 1 | M58: =K58+L58 -> 0 | N58: =D58+G58+J58+M58 -> 2
A59: Музыка | D59: =B59+C59 -> 0 | G59: =E59+F59 -> 0 | J59: =H59+I59 -> 0 | M59: =K59+L59 -> 0 | N59: =D59+G59+J59+M59 -> 0
A60: Физическая культура | D60: =B60+C60 -> 0 | G60: =E60+F60 -> 0 | J60: =H60+I60 -> 0 | M60: =K60+L60 -> 0 | N60: =D60+G60+J60+M60 -> 0
A61: ОБЗР | D61: =B61+C61 -> 0 | G61: =E61+F61 -> 0 | J61: =H61+I61 -> 0 | M61: =K61+L61 -> 0 | N61: =D61+G61+J61+M61 -> 0
A62: Обществознание | D62: =B62+C62 -> 0 | G62: =E62+F62 -> 0 | J62: =H62+I62 -> 0 | M62: =K62+L62 -> 0 | N62: =D62+G62+J62+M62 -> 0
A63: 9 классы
A64: Русский язык | C64: 1 | D64: =B64+C64 -> 1 | F64: 2 | G64: =E64+F64 -> 2 | I64: 1 | J64: =H64+I64 -> 1 | L64: 2 | M64: =K64+L64 -> 2 | N64: =D64+G64+J64+M64 -> 6
A65: Литература | D65: =B65+C65 -> 0 | G65: =E65+F65 -> 0 | J65: =H65+I65 -> 0 | L65: 2 | M65: =K65+L65 -> 2 | N65: =D65+G65+J65+M65 -> 2
A66: Иностранный язык (английский) | C66: 1 | D66: =B66+C66 -> 1 | F66: 1 | G66: =E66+F66 -> 1 | I66: 1 | J66: =H66+I66 -> 1 | L66: 1 | M66: =K66+L66 -> 1 | N66: =D66+G66+J66+M66 -> 4
A67: Алгебра | D67: =B67+C67 -> 0 | F67: 1 | G67: =E67+F67 -> 1 | J67: =H67+I67 -> 0 | L67: 1 | M67: =K67+L67 -> 1 | N67: =D67+G67+J67+M67 -> 2
A68: Геометрия | D68: =B68+C68 -> 0 | F68: 1 | G68: =E68+F68 -> 1 | J68: =H68+I68 -> 0 | L68: 1 | M68: =K68+L68 -> 1 | N68: =D68+G68+J68+M68 -> 2
A69: Вероятность и статистика | D69: =B69+C69 -> 0 | G69: =E69+F69 -> 0 | J69: =H69+I69 -> 0 | M69: =K69+L69 -> 0 | N69: =D69+G69+J69+M69 -> 0
A70: История | D70: =B70+C70 -> 0 | G70: =E70+F70 -> 0 | J70: =H70+I70 -> 0 | L70: 1 | M70: =K70+L70 -> 1 | N70: =D70+G70+J70+M70 -> 1
A71: Обществознание | D71: =B71+C71 -> 0 | G71: =E71+F71 -> 0 | J71: =H71+I71 -> 0 | L71: 1 | M71: =K71+L71 -> 1 | N71: =D71+G71+J71+M71 -> 1
A72: География | D72: =B72+C72 -> 0 | F72: 1 | G72: =E72+F72 -> 1 | J72: =H72+I72 -> 0 | L72: 1 | M72: =K72+L72 -> 1 | N72: =D72+G72+J72+M72 -> 2
A73: Биология | D73: =B73+C73 -> 0 | G73: =E73+F73 -> 0 | J73: =H73+I73 -> 0 | M73: =K73+L73 -> 0 | N73: =D73+G73+J73+M73 -> 0
A74: Информатика (база) | D74: =B74+C74 -> 0 | G74: =E74+F74 -> 0 | J74: =H74+I74 -> 0 | L74: 1 | M74: =K74+L74 -> 1 | N74: =D74+G74+J74+M74 -> 1
A75: Информатика (углубление) | D75: =B75+C75 -> 0 | F75: 1 | G75: =E75+F75 -> 1 | J75: =H75+I75 -> 0 | L75: 1 | M75: =K75+L75 -> 1 | N75: =D75+G75+J75+M75 -> 2
A76: Физика | D76: =B76+C76 -> 0 | G76: =E76+F76 -> 0 | I76: 1 | J76: =H76+I76 -> 1 | M76: =K76+L76 -> 0 | N76: =D76+G76+J76+M76 -> 1
A77: Химия | C77: 1 | D77: =B77+C77 -> 1 | F77: 1 | G77: =E77+F77 -> 1 | J77: =H77+I77 -> 0 | M77: =K77+L77 -> 0 | N77: =D77+G77+J77+M77 -> 2
A78: Физическая культура | D78: =B78+C78 -> 0 | G78: =E78+F78 -> 0 | J78: =H78+I78 -> 0 | M78: =K78+L78 -> 0 | N78: =D78+G78+J78+M78 -> 0
A79: ОБЗР | D79: =B79+C79 -> 0 | G79: =E79+F79 -> 0 | J79: =H79+I79 -> 0 | M79: =K79+L79 -> 0 | N79: =D79+G79+J79+M79 -> 0
A80: Труд (технология) | D80: =B80+C80 -> 0 | G80: =E80+F80 -> 0 | J80: =H80+I80 -> 0 | M80: =K80+L80 -> 0 | N80: =D80+G80+J80+M80 -> 0 | O80: есть в УП

Sheet ООО 2 полугодие
A1: ГРАФИК оценочных процедур на 2026/2027 учебный год ОСНОВНОЕ ОБЩЕЕ ОБРАЗОВАНИЕ II полугодие
A2: Период проведения оценочной процедуры | B2: Январь | E2: Февраль | H2: Март | K2: Апрель | N2: Май | Q2: Всего
B3: Федеральные оценочные процедуры | C3: Оценочные процедуры по инициативе ОО | D3: Всего | E3: Федеральные оценочные процедуры | F3: Оценочные процедуры по инициативе ОО | G3: Всего | H3: Федеральные оценочные процедуры | I3: Оценочные процедуры по инициативе ОО | J3: Всего | K3: Федеральные оценочные процедуры | L3: Оценочные процедуры по инициативе ОО | M3: Всего | N3: Федеральные оценочные процедуры | O3: Оценочные процедуры по инициативе ОО | P3: Всего | Q3: Во II полугодии 2025-2026 учебного года | R3: Всего оценочных процедур за 2025-2026 учебный год | S3: Кол-во часов по учебному плану | T3: Процентное соотношение кол-ва оценочных процедур к кол-ву часов УП, в %
A4: 5 классы
A5: Русский язык | C5: 1 | D5: =B5+C5 -> 1 | F5: 2 | G5: =E5+F5 -> 2 | I5: 1 | J5: =H5+I5 -> 1 | K5: 1 | L5: 3 | M5: =K5+L5 -> 4 | O5: 2 | P5: =N5+O5 -> 2 | Q5: =D5+G5+J5+M5+P5 -> 10 | R5: =Q5+'ООО 1 полугодие'!N5 -> 15 | S5: 170 | T5: =R5/S5 -> 0.088235294
A6: Литература | D6: =B6+C6 -> 0 | G6: =E6+F6 -> 0 | J6: =H6+I6 -> 0 | K6: 1 | M6: =K6+L6 -> 1 | O6: 1 | P6: =N6+O6 -> 1 | Q6: =D6+G6+J6+M6+P6 -> 2 | R6: =Q6+'ООО 1 полугодие'!N6 -> 4 | S6: 102 | T6: =R6/S6 -> 0.039215686
A7: Иностранный язык (английский) | C7: 1 | D7: =B7+C7 -> 1 | F7: 2 | G7: =E7+F7 -> 2 | J7: =H7+I7 -> 0 | K7: 1 | M7: =K7+L7 -> 1 | O7: 2 | P7: =N7+O7 -> 2 | Q7: =D7+G7+J7+M7+P7 -> 6 | R7: =Q7+'ООО 1 полугодие'!N7 -> 10 | S7: 102 | T7: =R7/S7 -> 0.098039216
A8: Математика | C8: 1 | D8: =B8+C8 -> 1 | F8: 2 | G8: =E8+F8 -> 2 | I8: 2 | J8: =H8+I8 -> 2 | K8: 2 | L8: 1 | M8: =K8+L8 -> 3 | O8: 1 | P8: =N8+O8 -> 1 | Q8: =D8+G8+J8+M8+P8 -> 9 | R8: =Q8+'ООО 1 полугодие'!N8 -> 15 | S8: 170 | T8: =R8/S8 -> 0.088235294
A9: История | D9: =B9+C9 -> 0 | F9: 1 | G9: =E9+F9 -> 1 | J9: =H9+I9 -> 0 | K9: 1 | M9: =K9+L9 -> 1 | P9: =N9+O9 -> 0 | Q9: =D9+G9+J9+M9+P9 -> 2 | R9: =Q9+'ООО 1 полугодие'!N9 -> 3 | S9: 68 | T9: =R9/S9 -> 0.044117647
A10: География | D10: =B10+C10 -> 0 | G10: =E10+F10 -> 0 | J10: =H10+I10 -> 0 | K10: 2 | M10: =K10+L10 -> 2 | P10: =N10+O10 -> 0 | Q10: =D10+G10+J10+M10+P10 -> 2 | R10: =Q10+'ООО 1 полугодие'!N10 -> 3 | S10: 34 | T10: =R10/S10 -> 0.088235294
A11: Биология | D11: =B11+C11 -> 0 | G11: =E11+F11 -> 0 | J11: =H11+I11 -> 0 | K11: 2 | M11: =K11+L11 -> 2 | P11: =N11+O11 -> 0 | Q11: =D11+G11+J11+M11+P11 -> 2 | R11: =Q11+'ООО 1 полугодие'!N11 -> 3 | S11: 34 | T11: =R11/S11 -> 0.088235294
A12: Труд (технология) | D12: =B12+C12 -> 0 | G12: =E12+F12 -> 0 | I12: 1 | J12: =H12+I12 -> 1 | M12: =K12+L12 -> 0 | O12: 1 | P12: =N12+O12 -> 1 | Q12: =D12+G12+J12+M12+P12 -> 2 | R12: =Q12+'ООО 1 полугодие'!N12 -> 3 | S12: 68 | T12: =R12/S12 -> 0.044117647
A13: Изобразительное искусство | D13: =B13+C13 -> 0 | G13: =E13+F13 -> 0 | I13: 1 | J13: =H13+I13 -> 1 | M13: =K13+L13 -> 0 | O13: 1 | P13: =N13+O13 -> 1 | Q13: =D13+G13+J13+M13+P13 -> 2 | R13: =Q13+'ООО 1 полугодие'!N13 -> 3 | S13: 34 | T13: =R13/S13 -> 0.088235294
A14: Музыка | D14: =B14+C14 -> 0 | G14: =E14+F14 -> 0 | J14: =H14+I14 -> 0 | M14: =K14+L14 -> 0 | O14: 1 | P14: =N14+O14 -> 1 | Q14: =D14+G14+J14+M14+P14 -> 1 | R14: =Q14+'ООО 1 полугодие'!N14 -> 2 | S14: 34 | T14: =R14/S14 -> 0.058823529
A15: Физическая культура | D15: =B15+C15 -> 0 | G15: =E15+F15 -> 0 | J15: =H15+I15 -> 0 | M15: =K15+L15 -> 0 | O15: 1 | P15: =N15+O15 -> 1 | Q15: =D15+G15+J15+M15+P15 -> 1 | R15: =Q15+'ООО 1 полугодие'!N15 -> 2 | S15: 68 | T15: =R15/S15 -> 0.029411765
A16: 6 классы
A17: Русский язык | C17: 2 | D17: =B17+C17 -> 2 | F17: 2 | G17: =E17+F17 -> 2 | I17: 1 | J17: =H17+I17 -> 1 | K17: 1 | L17: 1 | M17: =K17+L17 -> 2 | O17: 3 | P17: =N17+O17 -> 3 | Q17: =D17+G17+J17+M17+P17 -> 10 | R17: =Q17+'ООО 1 полугодие'!N17 -> 16 | S17: 204 | T17: =R17/S17 -> 0.078431373
A18: Литература | D18: =B18+C18 -> 0 | G18: =E18+F18 -> 0 | J18: =H18+I18 -> 0 | K18: 1 | M18: =K18+L18 -> 1 | O18: 1 | P18: =N18+O18 -> 1 | Q18: =D18+G18+J18+M18+P18 -> 2 | R18: =Q18+'ООО 1 полугодие'!N18 -> 3 | S18: 102 | T18: =R18/S18 -> 0.029411765
A19: Иностранный язык (английский) | C19: 1 | D19: =B19+C19 -> 1 | G19: =E19+F19 -> 0 | I19: 1 | J19: =H19+I19 -> 1 | K19: 1 | M19: =K19+L19 -> 1 | O19: 2 | P19: =N19+O19 -> 2 | Q19: =D19+G19+J19+M19+P19 -> 5 | R19: =Q19+'ООО 1 полугодие'!N19 -> 10 | S19: 102 | T19: =R19/S19 -> 0.098039216
A20: Математика | C20: 1 | D20: =B20+C20 -> 1 | F20: 1 | G20: =E20+F20 -> 1 | I20: 2 | J20: =H20+I20 -> 2 | K20: 2 | L20: 1 | M20: =K20+L20 -> 3 | O20: 1 | P20: =N20+O20 -> 1 | Q20: =D20+G20+J20+M20+P20 -> 8 | R20: =Q20+'ООО 1 полугодие'!N20 -> 13 | S20: 170 | T20: =R20/S20 -> 0.076470588
A21: История | D21: =B21+C21 -> 0 | G21: =E21+F21 -> 0 | I21: 1 | J21: =H21+I21 -> 1 | K21: 1 | M21: =K21+L21 -> 1 | P21: =N21+O21 -> 0 | Q21: =D21+G21+J21+M21+P21 -> 2 | R21: =Q21+'ООО 1 полугодие'!N21 -> 2 | S21: 68 | T21: =R21/S21 -> 0.029411765
A22: География | D22: =B22+C22 -> 0 | F22: 1 | G22: =E22+F22 -> 1 | J22: =H22+I22 -> 0 | K22: 2 | M22: =K22+L22 -> 2 | P22: =N22+O22 -> 0 | Q22: =D22+G22+J22+M22+P22 -> 3 | R22: =Q22+'ООО 1 полугодие'!N22 -> 3 | S22: 34 | T22: =R22/S22 -> 0.088235294
A23: Биология | D23: =B23+C23 -> 0 | G23: =E23+F23 -> 0 | J23: =H23+I23 -> 0 | K23: 2 | M23: =K23+L23 -> 2 | P23: =N23+O23 -> 0 | Q23: =D23+G23+J23+M23+P23 -> 2 | R23: =Q23+'ООО 1 полугодие'!N23 -> 2 | S23: 34 | T23: =R23/S23 -> 0.058823529
A24: Труд (технология) | D24: =B24+C24 -> 0 | G24: =E24+F24 -> 0 | I24: 1 | J24: =H24+I24 -> 1 | M24: =K24+L24 -> 0 | O24: 1 | P24: =N24+O24 -> 1 | Q24: =D24+G24+J24+M24+P24 -> 2 | R24: =Q24+'ООО 1 полугодие'!N24 -> 2 | S24: 68 | T24: =R24/S24 -> 0.029411765
A25: Изобразительное искусство | D25: =B25+C25 -> 0 | G25: =E25+F25 -> 0 | I25: 1 | J25: =H25+I25 -> 1 | M25: =K25+L25 -> 0 | O25: 1 | P25: =N25+O25 -> 1 | Q25: =D25+G25+J25+M25+P25 -> 2 | R25: =Q25+'ООО 1 полугодие'!N25 -> 2 | S25: 34 | T25: =R25/S25 -> 0.058823529
A26: Музыка | D26: =B26+C26 -> 0 | G26: =E26+F26 -> 0 | J26: =H26+I26 -> 0 | M26: =K26+L26 -> 0 | O26: 1 | P26: =N26+O26 -> 1 | Q26: =D26+G26+J26+M26+P26 -> 1 | R26: =Q26+'ООО 1 полугодие'!N26 -> 1 | S26: 34 | T26: =R26/S26 -> 0.029411765
A27: Физическая культура | D27: =B27+C27 -> 0 | G27: =E27+F27 -> 0 | J27: =H27+I27 -> 0 | M27: =K27+L27 -> 0 | O27: 1 | P27: =N27+O27 -> 1 | Q27: =D27+G27+J27+M27+P27 -> 1 | R27: =Q27+'ООО 1 полугодие'!N27 -> 1 | S27: 68 | T27: =R27/S27 -> 0.014705882
A28: 7 классы
A29: Русский язык | D29: =B29+C29 -> 0 | F29: 1 | G29: =E29+F29 -> 1 | I29: 1 | J29: =H29+I29 -> 1 | M29: =K29+L29 -> 0 | N29: 1 | O29: 1 | P29: =N29+O29 -> 2 | Q29: =D29+G29+J29+M29+P29 -> 4 | R29: =Q29+'ООО 1 полугодие'!N29 -> 12 | S29: 136 | T29: =R29/S29 -> 0.088235294
A30: Литература | C30: 1 | D30: =B30+C30 -> 1 | G30: =E30+F30 -> 0 | J30: =H30+I30 -> 0 | L30: 1 | M30: =K30+L30 -> 1 | N30: 1 | P30: =N30+O30 -> 1 | Q30: =D30+G30+J30+M30+P30 -> 3 | R30: =Q30+'ООО 1 полугодие'!N30 -> 3 | S30: 68 | T30: =R30/S30 -> 0.044117647
A31: Иностранный язык (английский) | C31: 1 | D31: =B31+C31 -> 1 | F31: 1 | G31: =E31+F31 -> 1 | I31: 1 | J31: =H31+I31 -> 1 | L31: 1 | M31: =K31+L31 -> 1 | N31: 1 | P31: =N31+O31 -> 1 | Q31: =D31+G31+J31+M31+P31 -> 5 | R31: =Q31+'ООО 1 полугодие'!N31 -> 10 | S31: 102 | T31: =R31/S31 -> 0.098039216
A32: Алгебра | C32: 1 | D32: =B32+C32 -> 1 | G32: =E32+F32 -> 0 | I32: 2 | J32: =H32+I32 -> 2 | M32: =K32+L32 -> 0 | N32: 2 | P32: =N32+O32 -> 2 | Q32: =D32+G32+J32+M32+P32 -> 5 | R32: =Q32+'ООО 1 полугодие'!N32 -> 7 | S32: 102 | T32: =R32/S32 -> 0.068627451
A33: Геометрия | C33: 1 | D33: =B33+C33 -> 1 | G33: =E33+F33 -> 0 | I33: 1 | J33: =H33+I33 -> 1 | L33: 1 | M33: =K33+L33 -> 1 | O33: 1 | P33: =N33+O33 -> 1 | Q33: =D33+G33+J33+M33+P33 -> 4 | R33: =Q33+'ООО 1 полугодие'!N33 -> 4 | S33: 68 | T33: =R33/S33 -> 0.058823529
A34: Вероятность и статистика | D34: =B34+C34 -> 0 | G34: =E34+F34 -> 0 | J34: =H34+I34 -> 0 | M34: =K34+L34 -> 0 | O34: 1 | P34: =N34+O34 -> 1 | Q34: =D34+G34+J34+M34+P34 -> 1 | R34: =Q34+'ООО 1 полугодие'!N34 -> 2 | S34: 34 | T34: =R34/S34 -> 0.058823529
A35: История | D35: =B35+C35 -> 0 | F35: 1 | G35: =E35+F35 -> 1 | I35: 1 | J35: =H35+I35 -> 1 | L35: 1 | M35: =K35+L35 -> 1 | N35: 1 | P35: =N35+O35 -> 1 | Q35: =D35+G35+J35+M35+P35 -> 4 | R35: =Q35+'ООО 1 полугодие'!N35 -> 4 | S35: 68 | T35: =R35/S35 -> 0.058823529
A36: География | D36: =B36+C36 -> 0 | F36: 1 | G36: =E36+F36 -> 1 | J36: =H36+I36 -> 0 | L36: 1 | M36: =K36+L36 -> 1 | N36: 2 | P36: =N36+O36 -> 2 | Q36: =D36+G36+J36+M36+P36 -> 4 | R36: =Q36+'ООО 1 полугодие'!N36 -> 4 | S36: 68 | T36: =R36/S36 -> 0.058823529
A37: Биология | D37: =B37+C37 -> 0 | G37: =E37+F37 -> 0 | J37: =H37+I37 -> 0 | M37: =K37+L37 -> 0 | N37: 2 | P37: =N37+O37 -> 2 | Q37: =D37+G37+J37+M37+P37 -> 2 | R37: =Q37+'ООО 1 полугодие'!N37 -> 2 | S37: 34 | T37: =R37/S37 -> 0.058823529
A38: Труд (технология) | D38: =B38+C38 -> 0 | G38: =E38+F38 -> 0 | I38: 1 | J38: =H38+I38 -> 1 | M38: =K38+L38 -> 0 | O38: 1 | P38: =N38+O38 -> 1 | Q38: =D38+G38+J38+M38+P38 -> 2 | R38: =Q38+'ООО 1 полугодие'!N38 -> 2 | S38: 68 | T38: =R38/S38 -> 0.029411765
A39: Информатика (углубление) | D39: =B39+C39 -> 0 | G39: =E39+F39 -> 0 | I39: 1 | J39: =H39+I39 -> 1 | M39: =K39+L39 -> 0 | N39: 2 | P39: =N39+O39 -> 2 | Q39: =D39+G39+J39+M39+P39 -> 3 | R39: =Q39+'ООО 1 полугодие'!N39 -> 6 | S39: 68 | T39: =R39/S39 -> 0.088235294
A40: Физика | D40: =B40+C40 -> 0 | G40: =E40+F40 -> 0 | J40: =H40+I40 -> 0 | M40: =K40+L40 -> 0 | N40: 2 | P40: =N40+O40 -> 2 | Q40: =D40+G40+J40+M40+P40 -> 2 | R40: =Q40+'ООО 1 полугодие'!N40 -> 4 | S40: 68 | T40: =R40/S40 -> 0.058823529
A41: Изобразительное искусство | D41: =B41+C41 -> 0 | G41: =E41+F41 -> 0 | I41: 1 | J41: =H41+I41 -> 1 | M41: =K41+L41 -> 0 | O41: 1 | P41: =N41+O41 -> 1 | Q41: =D41+G41+J41+M41+P41 -> 2 | R41: =Q41+'ООО 1 полугодие'!N41 -> 2 | S41: 34 | T41: =R41/S41 -> 0.058823529
A42: Музыка | D42: =B42+C42 -> 0 | G42: =E42+F42 -> 0 | J42: =H42+I42 -> 0 | M42: =K42+L42 -> 0 | O42: 1 | P42: =N42+O42 -> 1 | Q42: =D42+G42+J42+M42+P42 -> 1 | R42: =Q42+'ООО 1 полугодие'!N42 -> 1 | S42: 34 | T42: =R42/S42 -> 0.029411765
A43: Физическая культура | D43: =B43+C43 -> 0 | G43: =E43+F43 -> 0 | J43: =H43+I43 -> 0 | M43: =K43+L43 -> 0 | O43: 1 | P43: =N43+O43 -> 1 | Q43: =D43+G43+J43+M43+P43 -> 1 | R43: =Q43+'ООО 1 полугодие'!N43 -> 1 | S43: 68 | T43: =R43/S43 -> 0.014705882
A44: 8 классы
A45: Русский язык | C45: 1 | D45: =B45+C45 -> 1 | F45: 1 | G45: =E45+F45 -> 1 | I45: 1 | J45: =H45+I45 -> 1 | L45: 1 | M45: =K45+L45 -> 1 | N45: 1 | O45: 1 | P45: =N45+O45 -> 2 | Q45: =D45+G45+J45+M45+P45 -> 6 | R45: =Q45+'ООО 1 полугодие'!N45 -> 10 | S45: 102 | T45: =R45/S45 -> 0.098039216
A46: Литература | D46: =B46+C46 -> 0 | G46: =E46+F46 -> 0 | J46: =H46+I46 -> 0 | L46: 2 | M46: =K46+L46 -> 2 | N46: 1 | P46: =N46+O46 -> 1 | Q46: =D46+G46+J46+M46+P46 -> 3 | R46: =Q46+'ООО 1 полугодие'!N46 -> 4 | S46: 68 | T46: =R46/S46 -> 0.058823529
A47: Иностранный язык (английский) | C47: 1 | D47: =B47+C47 -> 1 | F47: 2 | G47: =E47+F47 -> 2 | I47: 1 | J47: =H47+I47 -> 1 | L47: 1 | M47: =K47+L47 -> 1 | N47: 1 | O47: 1 | P47: =N47+O47 -> 2 | Q47: =D47+G47+J47+M47+P47 -> 7 | R47: =Q47+'ООО 1 полугодие'!N47 -> 10 | S47: 102 | T47: =R47/S47 -> 0.098039216
A48: Алгебра | C48: 1 | D48: =B48+C48 -> 1 | G48: =E48+F48 -> 0 | J48: =H48+I48 -> 0 | L48: 1 | M48: =K48+L48 -> 1 | N48: 2 | O48: 2 | P48: =N48+O48 -> 4 | Q48: =D48+G48+J48+M48+P48 -> 6 | R48: =Q48+'ООО 1 полугодие'!N48 -> 8 | S48: 102 | T48: =R48/S48 -> 0.078431373
A49: Геометрия | D49: =B49+C49 -> 0 | F49: 1 | G49: =E49+F49 -> 1 | I49: 1 | J49: =H49+I49 -> 1 | M49: =K49+L49 -> 0 | O49: 2 | P49: =N49+O49 -> 2 | Q49: =D49+G49+J49+M49+P49 -> 4 | R49: =Q49+'ООО 1 полугодие'!N49 -> 6 | S49: 68 | T49: =R49/S49 -> 0.088235294
A50: Вероятность и статистика | D50: =B50+C50 -> 0 | G50: =E50+F50 -> 0 | J50: =H50+I50 -> 0 | M50: =K50+L50 -> 0 | O50: 1 | P50: =N50+O50 -> 1 | Q50: =D50+G50+J50+M50+P50 -> 1 | R50: =Q50+'ООО 1 полугодие'!N50 -> 2 | S50: 34 | T50: =R50/S50 -> 0.058823529
A51: История | C51: 1 | D51: =B51+C51 -> 1 | F51: 1 | G51: =E51+F51 -> 1 | J51: =H51+I51 -> 0 | L51: 1 | M51: =K51+L51 -> 1 | N51: 1 | P51: =N51+O51 -> 1 | Q51: =D51+G51+J51+M51+P51 -> 4 | R51: =Q51+'ООО 1 полугодие'!N51 -> 5 | S51: 68 | T51: =R51/S51 -> 0.073529412
A52: География | C52: 1 | D52: =B52+C52 -> 1 | G52: =E52+F52 -> 0 | J52: =H52+I52 -> 0 | L52: 2 | M52: =K52+L52 -> 2 | N52: 2 | O52: 1 | P52: =N52+O52 -> 3 | Q52: =D52+G52+J52+M52+P52 -> 6 | R52: =Q52+'ООО 1 полугодие'!N52 -> 6 | S52: 68 | T52: =R52/S52 -> 0.088235294
A53: Биология | D53: =B53+C53 -> 0 | G53: =E53+F53 -> 0 | J53: =H53+I53 -> 0 | M53: =K53+L53 -> 0 | N53: 2 | P53: =N53+O53 -> 2 | Q53: =D53+G53+J53+M53+P53 -> 2 | R53: =Q53+'ООО 1 полугодие'!N53 -> 2 | S53: 68 | T53: =R53/S53 -> 0.029411765
A54: Труд (технология) | D54: =B54+C54 -> 0 | G54: =E54+F54 -> 0 | I54: 1 | J54: =H54+I54 -> 1 | M54: =K54+L54 -> 0 | O54: 1 | P54: =N54+O54 -> 1 | Q54: =D54+G54+J54+M54+P54 -> 2 | R54: =Q54+'ООО 1 полугодие'!N54 -> 2 | S54: 34 | T54: =R54/S54 -> 0.058823529
A55: Информатика (база) | D55: =B55+C55 -> 0 | G55: =E55+F55 -> 0 | J55: =H55+I55 -> 0 | M55: =K55+L55 -> 0 | N55: 2 | P55: =N55+O55 -> 2 | Q55: =D55+G55+J55+M55+P55 -> 2 | R55: =Q55+'ООО 1 полугодие'!N55 -> 3 | S55: 34 | T55: =R55/S55 -> 0.088235294
A56: Информатика (углубление) | D56: =B56+C56 -> 0 | F56: 1 | G56: =E56+F56 -> 1 | J56: =H56+I56 -> 0 | L56: 1 | M56: =K56+L56 -> 1 | N56: 2 | O56: 1 | P56: =N56+O56 -> 3 | Q56: =D56+G56+J56+M56+P56 -> 5 | R56: =Q56+'ООО 1 полугодие'!N56 -> 5 | S56: 68 | T56: =R56/S56 -> 0.073529412
A57: Физика | D57: =B57+C57 -> 0 | G57: =E57+F57 -> 0 | J57: =H57+I57 -> 0 | M57: =K57+L57 -> 0 | N57: 2 | O57: 1 | P57: =N57+O57 -> 3 | Q57: =D57+G57+J57+M57+P57 -> 3 | R57: =Q57+'ООО 1 полугодие'!N57 -> 4 | S57: 68 | T57: =R57/S57 -> 0.058823529
A58: Химия | D58: =B58+C58 -> 0 | F58: 1 | G58: =E58+F58 -> 1 | I58: 1 | J58: =H58+I58 -> 1 | M58: =K58+L58 -> 0 | N58: 2 | P58: =N58+O58 -> 2 | Q58: =D58+G58+J58+M58+P58 -> 4 | R58: =Q58+'ООО 1 полугодие'!N58 -> 6 | S58: 68 | T58: =R58/S58 -> 0.088235294
A59: Музыка | D59: =B59+C59 -> 0 | G59: =E59+F59 -> 0 | J59: =H59+I59 -> 0 | M59: =K59+L59 -> 0 | O59: 1 | P59: =N59+O59 -> 1 | Q59: =D59+G59+J59+M59+P59 -> 1 | R59: =Q59+'ООО 1 полугодие'!N59 -> 1 | S59: 34 | T59: =R59/S59 -> 0.029411765
A60: Физическая культура | D60: =B60+C60 -> 0 | G60: =E60+F60 -> 0 | J60: =H60+I60 -> 0 | M60: =K60+L60 -> 0 | O60: 1 | P60: =N60+O60 -> 1 | Q60: =D60+G60+J60+M60+P60 -> 1 | R60: =Q60+'ООО 1 полугодие'!N60 -> 1 | S60: 68 | T60: =R60/S60 -> 0.014705882
A61: ОБЗР | D61: =B61+C61 -> 0 | G61: =E61+F61 -> 0 | J61: =H61+I61 -> 0 | M61: =K61+L61 -> 0 | O61: 1 | P61: =N61+O61 -> 1 | Q61: =D61+G61+J61+M61+P61 -> 1 | R61: =Q61+'ООО 1 полугодие'!N61 -> 1 | S61: 34 | T61: =R61/S61 -> 0.029411765
A62: Обществознание | C62: 1 | D62: =B62+C62 -> 1 | G62: =E62+F62 -> 0 | J62: =H62+I62 -> 0 | M62: =K62+L62 -> 0 | N62: 1 | P62: =N62+O62 -> 1 | Q62: =D62+G62+J62+M62+P62 -> 2 | R62: =Q62+'ООО 1 полугодие'!N62 -> 2 | S62: 34 | T62: =R62/S62 -> 0.058823529
A63: 9 классы
A64: Русский язык | D64: =B64+C64 -> 0 | F64: 1 | G64: =E64+F64 -> 1 | J64: =H64+I64 -> 0 | L64: 1 | M64: =K64+L64 -> 1 | O64: 1 | P64: =N64+O64 -> 1 | Q64: =D64+G64+J64+M64+P64 -> 3 | R64: =Q64+'ООО 1 полугодие'!N64 -> 9 | S64: 102 | T64: =R64/S64 -> 0.088235294
A65: Литература | D65: =B65+C65 -> 0 | G65: =E65+F65 -> 0 | J65: =H65+I65 -> 0 | L65: 2 | M65: =K65+L65 -> 2 | P65: =N65+O65 -> 0 | Q65: =D65+G65+J65+M65+P65 -> 2 | R65: =Q65+'ООО 1 полугодие'!N65 -> 4 | S65: 102 | T65: =R65/S65 -> 0.039215686
A66: Иностранный язык (английский) | C66: 2 | D66: =B66+C66 -> 2 | F66: 1 | G66: =E66+F66 -> 1 | I66: 1 | J66: =H66+I66 -> 1 | L66: 1 | M66: =K66+L66 -> 1 | O66: 1 | P66: =N66+O66 -> 1 | Q66: =D66+G66+J66+M66+P66 -> 6 | R66: =Q66+'ООО 1 полугодие'!N66 -> 10 | S66: 102 | T66: =R66/S66 -> 0.098039216
A67: Алгебра | C67: 1 | D67: =B67+C67 -> 1 | F67: 1 | G67: =E67+F67 -> 1 | J67: =H67+I67 -> 0 | L67: 1 | M67: =K67+L67 -> 1 | O67: 1 | P67: =N67+O67 -> 1 | Q67: =D67+G67+J67+M67+P67 -> 4 | R67: =Q67+'ООО 1 полугодие'!N67 -> 6 | S67: 102 | T67: =R67/S67 -> 0.058823529
A68: Геометрия | C68: 1 | D68: =B68+C68 -> 1 | G68: =E68+F68 -> 0 | I68: 1 | J68: =H68+I68 -> 1 | L68: 1 | M68: =K68+L68 -> 1 | O68: 1 | P68: =N68+O68 -> 1 | Q68: =D68+G68+J68+M68+P68 -> 4 | R68: =Q68+'ООО 1 полугодие'!N68 -> 6 | S68: 68 | T68: =R68/S68 -> 0.088235294
A69: Вероятность и статистика | D69: =B69+C69 -> 0 | G69: =E69+F69 -> 0 | J69: =H69+I69 -> 0 | M69: =K69+L69 -> 0 | O69: 1 | P69: =N69+O69 -> 1 | Q69: =D69+G69+J69+M69+P69 -> 1 | R69: =Q69+'ООО 1 полугодие'!N69 -> 1 | S69: 34 | T69: =R69/S69 -> 0.029411765
A70: История | C70: 1 | D70: =B70+C70 -> 1 | G70: =E70+F70 -> 0 | J70: =H70+I70 -> 0 | M70: =K70+L70 -> 0 | P70: =N70+O70 -> 0 | Q70: =D70+G70+J70+M70+P70 -> 1 | R70: =Q70+'ООО 1 полугодие'!N70 -> 2 | S70: 102 | T70: =R70/S70 -> 0.019607843
A71: Обществознание | D71: =B71+C71 -> 0 | G71: =E71+F71 -> 0 | J71: =H71+I71 -> 0 | M71: =K71+L71 -> 0 | O71: 1 | P71: =N71+O71 -> 1 | Q71: =D71+G71+J71+M71+P71 -> 1 | R71: =Q71+'ООО 1 полугодие'!N71 -> 2 | S71: 34 | T71: =R71/S71 -> 0.058823529
A72: География | D72: =B72+C72 -> 0 | G72: =E72+F72 -> 0 | I72: 1 | J72: =H72+I72 -> 1 | M72: =K72+L72 -> 0 | O72: 1 | P72: =N72+O72 -> 1 | Q72: =D72+G72+J72+M72+P72 -> 2 | R72: =Q72+'ООО 1 полугодие'!N72 -> 4 | S72: 68 | T72: =R72/S72 -> 0.058823529
A73: Биология | D73: =B73+C73 -> 0 | G73: =E73+F73 -> 0 | J73: =H73+I73 -> 0 | M73: =K73+L73 -> 0 | O73: 1 | P73: =N73+O73 -> 1 | Q73: =D73+G73+J73+M73+P73 -> 1 | R73: =Q73+'ООО 1 полугодие'!N73 -> 1 | S73: 68 | T73: =R73/S73 -> 0.014705882
A74: Информатика (база) | D74: =B74+C74 -> 0 | F74: 1 | G74: =E74+F74 -> 1 | J74: =H74+I74 -> 0 | M74: =K74+L74 -> 0 | P74: =N74+O74 -> 0 | Q74: =D74+G74+J74+M74+P74 -> 1 | R74: =Q74+'ООО 1 полугодие'!N74 -> 2 | S74: 34 | T74: =R74/S74 -> 0.058823529
A75: Информатика (углубление) | D75: =B75+C75 -> 0 | G75: =E75+F75 -> 0 | J75: =H75+I75 -> 0 | L75: 1 | M75: =K75+L75 -> 1 | P75: =N75+O75 -> 0 | Q75: =D75+G75+J75+M75+P75 -> 1 | R75: =Q75+'ООО 1 полугодие'!N75 -> 3 | S75: 68 | T75: =R75/S75 -> 0.044117647
A76: Физика | C76: 1 | D76: =B76+C76 -> 1 | G76: =E76+F76 -> 0 | J76: =H76+I76 -> 0 | L76: 1 | M76: =K76+L76 -> 1 | P76: =N76+O76 -> 0 | Q76: =D76+G76+J76+M76+P76 -> 2 | R76: =Q76+'ООО 1 полугодие'!N76 -> 3 | S76: 102 | T76: =R76/S76 -> 0.029411765
A77: Химия | D77: =B77+C77 -> 0 | F77: 1 | G77: =E77+F77 -> 1 | J77: =H77+I77 -> 0 | M77: =K77+L77 -> 0 | O77: 1 | P77: =N77+O77 -> 1 | Q77: =D77+G77+J77+M77+P77 -> 2 | R77: =Q77+'ООО 1 полугодие'!N77 -> 4 | S77: 68 | T77: =R77/S77 -> 0.058823529
A78: Физическая культура | D78: =B78+C78 -> 0 | G78: =E78+F78 -> 0 | J78: =H78+I78 -> 0 | M78: =K78+L78 -> 0 | O78: 1 | P78: =N78+O78 -> 1 | Q78: =D78+G78+J78+M78+P78 -> 1 | R78: =Q78+'ООО 1 полугодие'!N78 -> 1 | S78: 68 | T78: =R78/S78 -> 0.014705882
A79: ОБЗР | D79: =B79+C79 -> 0 | G79: =E79+F79 -> 0 | J79: =H79+I79 -> 0 | M79: =K79+L79 -> 0 | O79: 1 | P79: =N79+O79 -> 1 | Q79: =D79+G79+J79+M79+P79 -> 1 | R79: =Q79+'ООО 1 полугодие'!N79 -> 1 | S79: 34 | T79: =R79/S79 -> 0.029411765
A80: Труд (технология) | D80: =B80+C80 -> 0 | F80: 1 | G80: =E80+F80 -> 1 | I80: 1 | J80: =H80+I80 -> 1 | M80: =K80+L80 -> 0 | P80: =N80+O80 -> 0 | Q80: =D80+G80+J80+M80+P80 -> 2 | R80: =Q80+'ООО 1 полугодие'!N80 -> 2 | S80: 34 | T80: =R80/S80 -> 0.058823529

Sheet СОО 1 полугодие
A1: Приложение № 3 к приказу №57/12 от 01.09.2026 г. ГРАФИК оценочных процедур на 2026/2027 учебный год СРЕДНЕЕ ОБЩЕЕ ОБРАЗОВАНИЕ I полугодие
A2: Период проведения оценочной процедуры | B2: Сентябрь | E2: Октябрь | H2: Ноябрь | K2: Декабрь | N2: Всего
B3: Федеральные оценочные процедуры | C3: Оценочные процедуры по инициативе ОО (стартовая диагностика) | D3: Всего | E3: Федеральные оценочные процедуры | F3: Оценочные процедуры по инициативе ОО | G3: Всего | H3: Федеральные оценочные процедуры | I3: Оценочные процедуры по инициативе ОО | J3: Всего | K3: Федеральные оценочные процедуры | L3: Оценочные процедуры по инициативе ОО | M3: Всего | N3: В I полугодии 2025-2026 учебного года
A4: 10 классы
A5: Русский язык | C5: 1 | D5: =B5+C5 -> 1 | G5: =E5+F5 -> 0 | I5: 1 | J5: =H5+I5 -> 1 | M5: =K5+L5 -> 0 | N5: =D5+G5+J5+M5 -> 2
A6: Литература (база) | C6: 1 | D6: =B6+C6 -> 1 | G6: =E6+F6 -> 0 | J6: =H6+I6 -> 0 | L6: 1 | M6: =K6+L6 -> 1 | N6: =D6+G6+J6+M6 -> 2
A7: Литература (угл) | C7: 1 | D7: =B7+C7 -> 1 | G7: =E7+F7 -> 0 | J7: =H7+I7 -> 0 | L7: 1 | M7: =K7+L7 -> 1 | N7: =D7+G7+J7+M7 -> 2
A8: Иностранный язык (английский) (база) | C8: 1 | D8: =B8+C8 -> 1 | F8: 1 | G8: =E8+F8 -> 1 | J8: =H8+I8 -> 0 | L8: 2 | M8: =K8+L8 -> 2 | N8: =D8+G8+J8+M8 -> 4
A9: Иностранный язык (английский) (угл) | C9: 1 | D9: =B9+C9 -> 1 | F9: 1 | G9: =E9+F9 -> 1 | I9: 2 | J9: =H9+I9 -> 2 | M9: =K9+L9 -> 0 | N9: =D9+G9+J9+M9 -> 4
A10: Алгебра и начала математического анализа (база) | C10: 1 | D10: =B10+C10 -> 1 | F10: 1 | G10: =E10+F10 -> 1 | J10: =H10+I10 -> 0 | M10: =K10+L10 -> 0 | N10: =D10+G10+J10+M10 -> 2
A11: Алгебра и начала математического анализа (угл) | C11: 1 | D11: =B11+C11 -> 1 | F11: 1 | G11: =E11+F11 -> 1 | J11: =H11+I11 -> 0 | L11: 3 | M11: =K11+L11 -> 3 | N11: =D11+G11+J11+M11 -> 5
A12: Геометрия (база) | D12: =B12+C12 -> 0 | G12: =E12+F12 -> 0 | I12: 1 | J12: =H12+I12 -> 1 | M12: =K12+L12 -> 0 | N12: =D12+G12+J12+M12 -> 1
A13: Геометрия (угл) | C13: 1 | D13: =B13+C13 -> 1 | F13: 1 | G13: =E13+F13 -> 1 | J13: =H13+I13 -> 0 | M13: =K13+L13 -> 0 | N13: =D13+G13+J13+M13 -> 2
A14: Вероятность и статистика (база) | D14: =B14+C14 -> 0 | G14: =E14+F14 -> 0 | J14: =H14+I14 -> 0 | L14: 1 | M14: =K14+L14 -> 1 | N14: =D14+G14+J14+M14 -> 1
A15: Вероятность и статистика (угл) | D15: =B15+C15 -> 0 | G15: =E15+F15 -> 0 | J15: =H15+I15 -> 0 | L15: 1 | M15: =K15+L15 -> 1 | N15: =D15+G15+J15+M15 -> 1
A16: История (база) | D16: =B16+C16 -> 0 | G16: =E16+F16 -> 0 | J16: =H16+I16 -> 0 | M16: =K16+L16 -> 0 | N16: =D16+G16+J16+M16 -> 0
A17: История (угл) | D17: =B17+C17 -> 0 | G17: =E17+F17 -> 0 | J17: =H17+I17 -> 0 | L17: 1 | M17: =K17+L17 -> 1 | N17: =D17+G17+J17+M17 -> 1
A18: Обществознание (база) | D18: =B18+C18 -> 0 | G18: =E18+F18 -> 0 | J18: =H18+I18 -> 0 | M18: =K18+L18 -> 0 | N18: =D18+G18+J18+M18 -> 0
A19: Обществознание (угл) | D19: =B19+C19 -> 0 | G19: =E19+F19 -> 0 | J19: =H19+I19 -> 0 | L19: 1 | M19: =K19+L19 -> 1 | N19: =D19+G19+J19+M19 -> 1
A20: География (база) | C20: 1 | D20: =B20+C20 -> 1 | G20: =E20+F20 -> 0 | J20: =H20+I20 -> 0 | M20: =K20+L20 -> 0 | N20: =D20+G20+J20+M20 -> 1
A21: География (угл) | C21: 1 | D21: =B21+C21 -> 1 | G21: =E21+F21 -> 0 | J21: =H21+I21 -> 0 | L21: 1 | M21: =K21+L21 -> 1 | N21: =D21+G21+J21+M21 -> 2
A22: Биология (база) | C22: 1 | D22: =B22+C22 -> 1 | G22: =E22+F22 -> 0 | J22: =H22+I22 -> 0 | M22: =K22+L22 -> 0 | N22: =D22+G22+J22+M22 -> 1
A23: Биология (угл) | C23: 1 | D23: =B23+C23 -> 1 | G23: =E23+F23 -> 0 | J23: =H23+I23 -> 0 | L23: 1 | M23: =K23+L23 -> 1 | N23: =D23+G23+J23+M23 -> 2
A24: Информатика (база) | C24: 1 | D24: =B24+C24 -> 1 | G24: =E24+F24 -> 0 | J24: =H24+I24 -> 0 | M24: =K24+L24 -> 0 | N24: =D24+G24+J24+M24 -> 1
A25: Информатика (угл) | C25: 1 | D25: =B25+C25 -> 1 | G25: =E25+F25 -> 0 | J25: =H25+I25 -> 0 | L25: 2 | M25: =K25+L25 -> 2 | N25: =D25+G25+J25+M25 -> 3
A26: Физика (база) | C26: 1 | D26: =B26+C26 -> 1 | G26: =E26+F26 -> 0 | I26: 1 | J26: =H26+I26 -> 1 | M26: =K26+L26 -> 0 | N26: =D26+G26+J26+M26 -> 2
A27: Физика (угл) | C27: 1 | D27: =B27+C27 -> 1 | F27: 2 | G27: =E27+F27 -> 2 | I27: 2 | J27: =H27+I27 -> 2 | L27: 1 | M27: =K27+L27 -> 1 | N27: =D27+G27+J27+M27 -> 6
A28: Химия (база) | D28: =B28+C28 -> 0 | G28: =E28+F28 -> 0 | J28: =H28+I28 -> 0 | L28: 1 | M28: =K28+L28 -> 1 | N28: =D28+G28+J28+M28 -> 1
A29: Химия (угл) | C29: 2 | D29: =B29+C29 -> 2 | G29: =E29+F29 -> 0 | J29: =H29+I29 -> 0 | L29: 1 | M29: =K29+L29 -> 1 | N29: =D29+G29+J29+M29 -> 3
A30: Физическая культура | C30: 1 | D30: =B30+C30 -> 1 | G30: =E30+F30 -> 0 | J30: =H30+I30 -> 0 | M30: =K30+L30 -> 0 | N30: =D30+G30+J30+M30 -> 1
A31: ОБЗР | C31: 1 | D31: =B31+C31 -> 1 | G31: =E31+F31 -> 0 | J31: =H31+I31 -> 0 | M31: =K31+L31 -> 0 | N31: =D31+G31+J31+M31 -> 1
A32: 11 классы
A33: Русский язык | C33: 1 | D33: =B33+C33 -> 1 | G33: =E33+F33 -> 0 | I33: 1 | J33: =H33+I33 -> 1 | M33: =K33+L33 -> 0 | N33: =D33+G33+J33+M33 -> 2
A34: Литература (база) | D34: =B34+C34 -> 0 | G34: =E34+F34 -> 0 | J34: =H34+I34 -> 0 | L34: 1 | M34: =K34+L34 -> 1 | N34: =D34+G34+J34+M34 -> 1
A35: Литература (угл) | D35: =B35+C35 -> 0 | G35: =E35+F35 -> 0 | J35: =H35+I35 -> 0 | L35: 1 | M35: =K35+L35 -> 1 | N35: =D35+G35+J35+M35 -> 1
A36: Иностранный язык (английский) (база) | D36: =B36+C36 -> 0 | F36: 1 | G36: =E36+F36 -> 1 | I36: 1 | J36: =H36+I36 -> 1 | L36: 1 | M36: =K36+L36 -> 1 | N36: =D36+G36+J36+M36 -> 3
A37: Иностранный язык (английский) (угл) | D37: =B37+C37 -> 0 | F37: 2 | G37: =E37+F37 -> 2 | I37: 1 | J37: =H37+I37 -> 1 | L37: 1 | M37: =K37+L37 -> 1 | N37: =D37+G37+J37+M37 -> 4
A38: Алгебра и начала математического анализа (база) | C38: 1 | D38: =B38+C38 -> 1 | G38: =E38+F38 -> 0 | I38: 1 | J38: =H38+I38 -> 1 | M38: =K38+L38 -> 0 | N38: =D38+G38+J38+M38 -> 2
A39: Алгебра и начала математического анализа (угл) | D39: =B39+C39 -> 0 | F39: 1 | G39: =E39+F39 -> 1 | J39: =H39+I39 -> 0 | L39: 2 | M39: =K39+L39 -> 2 | N39: =D39+G39+J39+M39 -> 3
A40: Геометрия (база) | D40: =B40+C40 -> 0 | G40: =E40+F40 -> 0 | J40: =H40+I40 -> 0 | L40: 1 | M40: =K40+L40 -> 1 | N40: =D40+G40+J40+M40 -> 1
A41: Геометрия (угл) | D41: =B41+C41 -> 0 | F41: 1 | G41: =E41+F41 -> 1 | I41: 1 | J41: =H41+I41 -> 1 | L41: 1 | M41: =K41+L41 -> 1 | N41: =D41+G41+J41+M41 -> 3
A42: Вероятность и статистика (база) | D42: =B42+C42 -> 0 | G42: =E42+F42 -> 0 | J42: =H42+I42 -> 0 | L42: 1 | M42: =K42+L42 -> 1 | N42: =D42+G42+J42+M42 -> 1
A43: Вероятность и статистика (угл) | D43: =B43+C43 -> 0 | G43: =E43+F43 -> 0 | J43: =H43+I43 -> 0 | M43: =K43+L43 -> 0 | N43: =D43+G43+J43+M43 -> 0
A44: История (база) | D44: =B44+C44 -> 0 | G44: =E44+F44 -> 0 | I44: 1 | J44: =H44+I44 -> 1 | M44: =K44+L44 -> 0 | N44: =D44+G44+J44+M44 -> 1
A45: История (угл) | D45: =B45+C45 -> 0 | G45: =E45+F45 -> 0 | J45: =H45+I45 -> 0 | L45: 1 | M45: =K45+L45 -> 1 | N45: =D45+G45+J45+M45 -> 1
A46: Обществознание (база) | D46: =B46+C46 -> 0 | G46: =E46+F46 -> 0 | J46: =H46+I46 -> 0 | M46: =K46+L46 -> 0 | N46: =D46+G46+J46+M46 -> 0
A47: Обществознание (угл) | D47: =B47+C47 -> 0 | G47: =E47+F47 -> 0 | J47: =H47+I47 -> 0 | L47: 1 | M47: =K47+L47 -> 1 | N47: =D47+G47+J47+M47 -> 1
A48: География (база) | D48: =B48+C48 -> 0 | G48: =E48+F48 -> 0 | J48: =H48+I48 -> 0 | M48: =K48+L48 -> 0 | N48: =D48+G48+J48+M48 -> 0
A49: География (угл) | D49: =B49+C49 -> 0 | G49: =E49+F49 -> 0 | J49: =H49+I49 -> 0 | L49: 1 | M49: =K49+L49 -> 1 | N49: =D49+G49+J49+M49 -> 1
A50: Биология (база) | D50: =B50+C50 -> 0 | G50: =E50+F50 -> 0 | J50: =H50+I50 -> 0 | M50: =K50+L50 -> 0 | N50: =D50+G50+J50+M50 -> 0
A51: Биология (угл) | D51: =B51+C51 -> 0 | G51: =E51+F51 -> 0 | J51: =H51+I51 -> 0 | L51: 1 | M51: =K51+L51 -> 1 | N51: =D51+G51+J51+M51 -> 1
A52: Информатика (база) | D52: =B52+C52 -> 0 | G52: =E52+F52 -> 0 | J52: =H52+I52 -> 0 | L52: 1 | M52: =K52+L52 -> 1 | N52: =D52+G52+J52+M52 -> 1
A53: Информатика (угл) | D53: =B53+C53 -> 0 | F53: 1 | G53: =E53+F53 -> 1 | J53: =H53+I53 -> 0 | L53: 1 | M53: =K53+L53 -> 1 | N53: =D53+G53+J53+M53 -> 2
A54: Физика (база) | D54: =B54+C54 -> 0 | F54: 1 | G54: =E54+F54 -> 1 | J54: =H54+I54 -> 0 | M54: =K54+L54 -> 0 | N54: =D54+G54+J54+M54 -> 1
A55: Физика (угл) | D55: =B55+C55 -> 0 | F55: 1 | G55: =E55+F55 -> 1 | I55: 1 | J55: =H55+I55 -> 1 | M55: =K55+L55 -> 0 | N55: =D55+G55+J55+M55 -> 2
A56: Химия (база) | D56: =B56+C56 -> 0 | G56: =E56+F56 -> 0 | J56: =H56+I56 -> 0 | L56: 1 | M56: =K56+L56 -> 1 | N56: =D56+G56+J56+M56 -> 1
A57: Химия (угл) | D57: =B57+C57 -> 0 | F57: 1 | G57: =E57+F57 -> 1 | J57: =H57+I57 -> 0 | L57: 1 | M57: =K57+L57 -> 1 | N57: =D57+G57+J57+M57 -> 2
A58: Физическая культура | D58: =B58+C58 -> 0 | G58: =E58+F58 -> 0 | J58: =H58+I58 -> 0 | M58: =K58+L58 -> 0 | N58: =D58+G58+J58+M58 -> 0
A59: ОБЗР | D59: =B59+C59 -> 0 | G59: =E59+F59 -> 0 | J59: =H59+I59 -> 0 | M59: =K59+L59 -> 0 | N59: =D59+G59+J59+M59 -> 0

Sheet СОО 2 полугодие
A1: ГРАФИК оценочных процедур на 2026/2027 учебный год СРЕДНЕЕ ОБЩЕЕ ОБРАЗОВАНИЕ II полугодие
A2: Период проведения оценочной процедуры | B2: Январь | E2: Февраль | H2: Март | K2: Апрель | N2: Май | Q2: Всего
B3: Федеральные оценочные процедуры | C3: Оценочные процедуры по инициативе ОО | D3: Всего | E3: Федеральные оценочные процедуры | F3: Оценочные процедуры по инициативе ОО | G3: Всего | H3: Федеральные оценочные процедуры | I3: Оценочные процедуры по инициативе ОО | J3: Всего | K3: Федеральные оценочные процедуры | L3: Оценочные процедуры по инициативе ОО | M3: Всего | N3: Федеральные оценочные процедуры | O3: Оценочные процедуры по инициативе ОО | P3: Всего | Q3: Во II полугодии 2025-2026 учебного года | R3: Всего оценочных процедур за 2025-2026 учебный год | S3: Кол-во часов по учебному плану | T3: Процентное соотношение кол-ва оценочных процедур к кол-ву часов УП, в %
A4: 10 классы
A5: Русский язык | C5: 1 | D5: =B5+C5 -> 1 | G5: =E5+F5 -> 0 | I5: 1 | J5: =H5+I5 -> 1 | M5: =K5+L5 -> 0 | N5: 2 | P5: =N5+O5 -> 2 | Q5: =D5+G5+J5+M5+P5 -> 4 | R5: =Q5+'СОО 1 полугодие'!N5 -> 6 | S5: 68 | T5: =R5/S5 -> 0.088235294
A6: Литература (база) | D6: =B6+C6 -> 0 | G6: =E6+F6 -> 0 | J6: =H6+I6 -> 0 | L6: 1 | M6: =K6+L6 -> 1 | N6: 2 | P6: =N6+O6 -> 2 | Q6: =D6+G6+J6+M6+P6 -> 3 | R6: =Q6+'СОО 1 полугодие'!N6 -> 5 | S6: 102 | T6: =R6/S6 -> 0.049019608
A7: Литература (угл) | D7: =B7+C7 -> 0 | G7: =E7+F7 -> 0 | J7: =H7+I7 -> 0 | L7: 1 | M7: =K7+L7 -> 1 | N7: 2 | P7: =N7+O7 -> 2 | Q7: =D7+G7+J7+M7+P7 -> 3 | R7: =Q7+'СОО 1 полугодие'!N7 -> 5 | S7: 170 | T7: =R7/S7 -> 0.029411765
A8: Иностранный язык (английский) (база) | D8: =B8+C8 -> 0 | F8: 1 | G8: =E8+F8 -> 1 | I8: 1 | J8: =H8+I8 -> 1 | M8: =K8+L8 -> 0 | N8: 2 | P8: =N8+O8 -> 2 | Q8: =D8+G8+J8+M8+P8 -> 4 | R8: =Q8+'СОО 1 полугодие'!N8 -> 8 | S8: 102 | T8: =R8/S8 -> 0.078431373
A9: Иностранный язык (английский) (угл) | C9: 1 | D9: =B9+C9 -> 1 | F9: 1 | G9: =E9+F9 -> 1 | I9: 2 | J9: =H9+I9 -> 2 | L9: 1 | M9: =K9+L9 -> 1 | N9: 2 | O9: 1 | P9: =N9+O9 -> 3 | Q9: =D9+G9+J9+M9+P9 -> 8 | R9: =Q9+'СОО 1 полугодие'!N9 -> 12 | S9: 170 | T9: =R9/S9 -> 0.070588235
A10: Алгебра и начала математического анализа (база) | C10: 1 | D10: =B10+C10 -> 1 | G10: =E10+F10 -> 0 | J10: =H10+I10 -> 0 | M10: =K10+L10 -> 0 | N10: 2 | P10: =N10+O10 -> 2 | Q10: =D10+G10+J10+M10+P10 -> 3 | R10: =Q10+'СОО 1 полугодие'!N10 -> 5 | S10: 68 | T10: =R10/S10 -> 0.073529412
A11: Алгебра и начала математического анализа (угл) | D11: =B11+C11 -> 0 | F11: 1 | G11: =E11+F11 -> 1 | I11: 1 | J11: =H11+I11 -> 1 | L11: 1 | M11: =K11+L11 -> 1 | N11: 2 | O11: 1 | P11: =N11+O11 -> 3 | Q11: =D11+G11+J11+M11+P11 -> 6 | R11: =Q11+'СОО 1 полугодие'!N11 -> 11 | S11: 136 | T11: =R11/S11 -> 0.080882353
A12: Геометрия (база) | D12: =B12+C12 -> 0 | F12: 1 | G12: =E12+F12 -> 1 | I12: 1 | J12: =H12+I12 -> 1 | L12: 1 | M12: =K12+L12 -> 1 | O12: 1 | P12: =N12+O12 -> 1 | Q12: =D12+G12+J12+M12+P12 -> 4 | R12: =Q12+'СОО 1 полугодие'!N12 -> 5 | S12: 68 | T12: =R12/S12 -> 0.073529412
A13: Геометрия (угл) | D13: =B13+C13 -> 0 | F13: 1 | G13: =E13+F13 -> 1 | I13: 1 | J13: =H13+I13 -> 1 | L13: 1 | M13: =K13+L13 -> 1 | O13: 2 | P13: =N13+O13 -> 2 | Q13: =D13+G13+J13+M13+P13 -> 5 | R13: =Q13+'СОО 1 полугодие'!N13 -> 7 | S13: 102 | T13: =R13/S13 -> 0.068627451
A14: Вероятность и статистика (база) | D14: =B14+C14 -> 0 | G14: =E14+F14 -> 0 | J14: =H14+I14 -> 0 | M14: =K14+L14 -> 0 | O14: 1 | P14: =N14+O14 -> 1 | Q14: =D14+G14+J14+M14+P14 -> 1 | R14: =Q14+'СОО 1 полугодие'!N14 -> 2 | S14: 34 | T14: =R14/S14 -> 0.058823529
A15: Вероятность и статистика (угл) | D15: =B15+C15 -> 0 | G15: =E15+F15 -> 0 | J15: =H15+I15 -> 0 | M15: =K15+L15 -> 0 | O15: 1 | P15: =N15+O15 -> 1 | Q15: =D15+G15+J15+M15+P15 -> 1 | R15: =Q15+'СОО 1 полугодие'!N15 -> 2 | S15: 34 | T15: =R15/S15 -> 0.058823529
A16: История (база) | D16: =B16+C16 -> 0 | G16: =E16+F16 -> 0 | J16: =H16+I16 -> 0 | M16: =K16+L16 -> 0 | N16: 2 | P16: =N16+O16 -> 2 | Q16: =D16+G16+J16+M16+P16 -> 2 | R16: =Q16+'СОО 1 полугодие'!N16 -> 2 | S16: 68 | T16: =R16/S16 -> 0.029411765
A17: История (угл) | D17: =B17+C17 -> 0 | G17: =E17+F17 -> 0 | J17: =H17+I17 -> 0 | M17: =K17+L17 -> 0 | N17: 2 | P17: =N17+O17 -> 2 | Q17: =D17+G17+J17+M17+P17 -> 2 | R17: =Q17+'СОО 1 полугодие'!N17 -> 3 | S17: 136 | T17: =R17/S17 -> 0.022058824
A18: Обществознание (база) | D18: =B18+C18 -> 0 | G18: =E18+F18 -> 0 | J18: =H18+I18 -> 0 | M18: =K18+L18 -> 0 | N18: 2 | P18: =N18+O18 -> 2 | Q18: =D18+G18+J18+M18+P18 -> 2 | R18: =Q18+'СОО 1 полугодие'!N18 -> 2 | S18: 68 | T18: =R18/S18 -> 0.029411765
A19: Обществознание (угл) | D19: =B19+C19 -> 0 | G19: =E19+F19 -> 0 | J19: =H19+I19 -> 0 | M19: =K19+L19 -> 0 | N19: 2 | P19: =N19+O19 -> 2 | Q19: =D19+G19+J19+M19+P19 -> 2 | R19: =Q19+'СОО 1 полугодие'!N19 -> 3 | S19: 136 | T19: =R19/S19 -> 0.022058824
A20: География (база) | D20: =B20+C20 -> 0 | G20: =E20+F20 -> 0 | J20: =H20+I20 -> 0 | M20: =K20+L20 -> 0 | N20: 2 | P20: =N20+O20 -> 2 | Q20: =D20+G20+J20+M20+P20 -> 2 | R20: =Q20+'СОО 1 полугодие'!N20 -> 3 | S20: 34 | T20: =R20/S20 -> 0.088235294
A21: География (угл) | D21: =B21+C21 -> 0 | G21: =E21+F21 -> 0 | J21: =H21+I21 -> 0 | M21: =K21+L21 -> 0 | N21: 2 | P21: =N21+O21 -> 2 | Q21: =D21+G21+J21+M21+P21 -> 2 | R21: =Q21+'СОО 1 полугодие'!N21 -> 4 | S21: 102 | T21: =R21/S21 -> 0.039215686
A22: Биология (база) | D22: =B22+C22 -> 0 | G22: =E22+F22 -> 0 | J22: =H22+I22 -> 0 | M22: =K22+L22 -> 0 | N22: 2 | P22: =N22+O22 -> 2 | Q22: =D22+G22+J22+M22+P22 -> 2 | R22: =Q22+'СОО 1 полугодие'!N22 -> 3 | S22: 34 | T22: =R22/S22 -> 0.088235294
A23: Биология (угл) | D23: =B23+C23 -> 0 | G23: =E23+F23 -> 0 | J23: =H23+I23 -> 0 | M23: =K23+L23 -> 0 | N23: 2 | P23: =N23+O23 -> 2 | Q23: =D23+G23+J23+M23+P23 -> 2 | R23: =Q23+'СОО 1 полугодие'!N23 -> 4 | S23: 102 | T23: =R23/S23 -> 0.039215686
A24: Информатика (база) | D24: =B24+C24 -> 0 | G24: =E24+F24 -> 0 | I24: 1 | J24: =H24+I24 -> 1 | M24: =K24+L24 -> 0 | O24: 1 | P24: =N24+O24 -> 1 | Q24: =D24+G24+J24+M24+P24 -> 2 | R24: =Q24+'СОО 1 полугодие'!N24 -> 3 | S24: 34 | T24: =R24/S24 -> 0.088235294
A25: Информатика (угл) | D25: =B25+C25 -> 0 | F25: 2 | G25: =E25+F25 -> 2 | J25: =H25+I25 -> 0 | M25: =K25+L25 -> 0 | O25: 1 | P25: =N25+O25 -> 1 | Q25: =D25+G25+J25+M25+P25 -> 3 | R25: =Q25+'СОО 1 полугодие'!N25 -> 6 | S25: 136 | T25: =R25/S25 -> 0.044117647
A26: Физика (база) | D26: =B26+C26 -> 0 | F26: 1 | G26: =E26+F26 -> 1 | J26: =H26+I26 -> 0 | M26: =K26+L26 -> 0 | N26: 2 | O26: 1 | P26: =N26+O26 -> 3 | Q26: =D26+G26+J26+M26+P26 -> 4 | R26: =Q26+'СОО 1 полугодие'!N26 -> 6 | S26: 68 | T26: =R26/S26 -> 0.088235294
A27: Химия (база) | D27: =B27+C27 -> 0 | G27: =E27+F27 -> 0 | J27: =H27+I27 -> 0 | M27: =K27+L27 -> 0 | N27: 2 | P27: =N27+O27 -> 2 | Q27: =D27+G27+J27+M27+P27 -> 2 | R27: =Q27+'СОО 1 полугодие'!N28 -> 3 | S27: 34 | T27: =R27/S27 -> 0.088235294
A28: Химия (угл) | D28: =B28+C28 -> 0 | G28: =E28+F28 -> 0 | J28: =H28+I28 -> 0 | L28: 1 | M28: =K28+L28 -> 1 | N28: 2 | O28: 1 | P28: =N28+O28 -> 3 | Q28: =D28+G28+J28+M28+P28 -> 4 | R28: =Q28+'СОО 1 полугодие'!N29 -> 7 | S28: 102 | T28: =R28/S28 -> 0.068627451
A29: Физическая культура | D29: =B29+C29 -> 0 | G29: =E29+F29 -> 0 | J29: =H29+I29 -> 0 | M29: =K29+L29 -> 0 | O29: 1 | P29: =N29+O29 -> 1 | Q29: =D29+G29+J29+M29+P29 -> 1 | R29: =Q29+'СОО 1 полугодие'!N30 -> 2 | S29: 68 | T29: =R29/S29 -> 0.029411765
A30: ОБЗР | D30: =B30+C30 -> 0 | G30: =E30+F30 -> 0 | J30: =H30+I30 -> 0 | M30: =K30+L30 -> 0 | O30: 1 | P30: =N30+O30 -> 1 | Q30: =D30+G30+J30+M30+P30 -> 1 | R30: =Q30+'СОО 1 полугодие'!N31 -> 2 | S30: 34 | T30: =R30/S30 -> 0.058823529
A31: 11 классы
A32: Русский язык | D32: =B32+C32 -> 0 | F32: 1 | G32: =E32+F32 -> 1 | J32: =H32+I32 -> 0 | L32: 1 | M32: =K32+L32 -> 1 | O32: 1 | P32: =N32+O32 -> 1 | Q32: =D32+G32+J32+M32+P32 -> 3 | R32: =Q32+'СОО 1 полугодие'!N33 -> 5 | S32: 68 | T32: =R32/S32 -> 0.073529412
A33: Литература (база) | D33: =B33+C33 -> 0 | G33: =E33+F33 -> 0 | J33: =H33+I33 -> 0 | L33: 1 | M33: =K33+L33 -> 1 | P33: =N33+O33 -> 0 | Q33: =D33+G33+J33+M33+P33 -> 1 | R33: =Q33+'СОО 1 полугодие'!N34 -> 2 | S33: 102 | T33: =R33/S33 -> 0.019607843
A34: Литература (угл) | D34: =B34+C34 -> 0 | G34: =E34+F34 -> 0 | J34: =H34+I34 -> 0 | M34: =K34+L34 -> 0 | O34: 1 | P34: =N34+O34 -> 1 | Q34: =D34+G34+J34+M34+P34 -> 1 | R34: =Q34+'СОО 1 полугодие'!N35 -> 2 | S34: 170 | T34: =R34/S34 -> 0.011764706
A35: Иностранный язык (английский) (база) | C35: 1 | D35: =B35+C35 -> 1 | F35: 1 | G35: =E35+F35 -> 1 | J35: =H35+I35 -> 0 | L35: 1 | M35: =K35+L35 -> 1 | O35: 0 | P35: =N35+O35 -> 0 | Q35: =D35+G35+J35+M35+P35 -> 3 | R35: =Q35+'СОО 1 полугодие'!N36 -> 6 | S35: 102 | T35: =R35/S35 -> 0.058823529
A36: Иностранный язык (английский) (угл) | C36: 1 | D36: =B36+C36 -> 1 | F36: 1 | G36: =E36+F36 -> 1 | I36: 1 | J36: =H36+I36 -> 1 | L36: 1 | M36: =K36+L36 -> 1 | O36: 1 | P36: =N36+O36 -> 1 | Q36: =D36+G36+J36+M36+P36 -> 5 | R36: =Q36+'СОО 1 полугодие'!N37 -> 9 | S36: 170 | T36: =R36/S36 -> 0.052941176
A37: Алгебра и начала математического анализа (база) | C37: 1 | D37: =B37+C37 -> 1 | G37: =E37+F37 -> 0 | I37: 1 | J37: =H37+I37 -> 1 | M37: =K37+L37 -> 0 | O37: 2 | P37: =N37+O37 -> 2 | Q37: =D37+G37+J37+M37+P37 -> 4 | R37: =Q37+'СОО 1 полугодие'!N38 -> 6 | S37: 102 | T37: =R37/S37 -> 0.058823529
A38: Алгебра и начала математического анализа (угл) | C38: 1 | D38: =B38+C38 -> 1 | F38: 2 | G38: =E38+F38 -> 2 | I38: 1 | J38: =H38+I38 -> 1 | L38: 1 | M38: =K38+L38 -> 1 | O38: 2 | P38: =N38+O38 -> 2 | Q38: =D38+G38+J38+M38+P38 -> 7 | R38: =Q38+'СОО 1 полугодие'!N39 -> 10 | S38: 136 | T38: =R38/S38 -> 0.073529412
A39: Геометрия (база) | D39: =B39+C39 -> 0 | G39: =E39+F39 -> 0 | J39: =H39+I39 -> 0 | L39: 1 | M39: =K39+L39 -> 1 | O39: 1 | P39: =N39+O39 -> 1 | Q39: =D39+G39+J39+M39+P39 -> 2 | R39: =Q39+'СОО 1 полугодие'!N40 -> 3 | S39: 34 | T39: =R39/S39 -> 0.088235294
A40: Геометрия (угл) | D40: =B40+C40 -> 0 | G40: =E40+F40 -> 0 | I40: 1 | J40: =H40+I40 -> 1 | L40: 2 | M40: =K40+L40 -> 2 | O40: 2 | P40: =N40+O40 -> 2 | Q40: =D40+G40+J40+M40+P40 -> 5 | R40: =Q40+'СОО 1 полугодие'!N41 -> 8 | S40: 102 | T40: =R40/S40 -> 0.078431373
A41: Вероятность и статистика (база) | D41: =B41+C41 -> 0 | G41: =E41+F41 -> 0 | J41: =H41+I41 -> 0 | M41: =K41+L41 -> 0 | O41: 1 | P41: =N41+O41 -> 1 | Q41: =D41+G41+J41+M41+P41 -> 1 | R41: =Q41+'СОО 1 полугодие'!N42 -> 2 | S41: 34 | T41: =R41/S41 -> 0.058823529
A42: Вероятность и статистика (угл) | D42: =B42+C42 -> 0 | G42: =E42+F42 -> 0 | J42: =H42+I42 -> 0 | M42: =K42+L42 -> 0 | O42: 1 | P42: =N42+O42 -> 1 | Q42: =D42+G42+J42+M42+P42 -> 1 | R42: =Q42+'СОО 1 полугодие'!N43 -> 1 | S42: 34 | T42: =R42/S42 -> 0.029411765
A43: История (база) | D43: =B43+C43 -> 0 | G43: =E43+F43 -> 0 | J43: =H43+I43 -> 0 | M43: =K43+L43 -> 0 | O43: 1 | P43: =N43+O43 -> 1 | Q43: =D43+G43+J43+M43+P43 -> 1 | R43: =Q43+'СОО 1 полугодие'!N44 -> 2 | S43: 68 | T43: =R43/S43 -> 0.029411765
A44: История (угл) | D44: =B44+C44 -> 0 | G44: =E44+F44 -> 0 | J44: =H44+I44 -> 0 | M44: =K44+L44 -> 0 | O44: 1 | P44: =N44+O44 -> 1 | Q44: =D44+G44+J44+M44+P44 -> 1 | R44: =Q44+'СОО 1 полугодие'!N45 -> 2 | S44: 136 | T44: =R44/S44 -> 0.014705882
A45: Обществознание (база) | D45: =B45+C45 -> 0 | G45: =E45+F45 -> 0 | J45: =H45+I45 -> 0 | M45: =K45+L45 -> 0 | O45: 1 | P45: =N45+O45 -> 1 | Q45: =D45+G45+J45+M45+P45 -> 1 | R45: =Q45+'СОО 1 полугодие'!N46 -> 1 | S45: 68 | T45: =R45/S45 -> 0.014705882
A46: Обществознание (угл) | D46: =B46+C46 -> 0 | G46: =E46+F46 -> 0 | J46: =H46+I46 -> 0 | M46: =K46+L46 -> 0 | O46: 1 | P46: =N46+O46 -> 1 | Q46: =D46+G46+J46+M46+P46 -> 1 | R46: =Q46+'СОО 1 полугодие'!N47 -> 2 | S46: 136 | T46: =R46/S46 -> 0.014705882
A47: География (база) | D47: =B47+C47 -> 0 | G47: =E47+F47 -> 0 | J47: =H47+I47 -> 0 | M47: =K47+L47 -> 0 | O47: 1 | P47: =N47+O47 -> 1 | Q47: =D47+G47+J47+M47+P47 -> 1 | R47: =Q47+'СОО 1 полугодие'!N48 -> 1 | S47: 34 | T47: =R47/S47 -> 0.029411765
A48: География (угл) | D48: =B48+C48 -> 0 | G48: =E48+F48 -> 0 | J48: =H48+I48 -> 0 | M48: =K48+L48 -> 0 | O48: 1 | P48: =N48+O48 -> 1 | Q48: =D48+G48+J48+M48+P48 -> 1 | R48: =Q48+'СОО 1 полугодие'!N49 -> 2 | S48: 102 | T48: =R48/S48 -> 0.019607843
A49: Биология (база) | D49: =B49+C49 -> 0 | G49: =E49+F49 -> 0 | J49: =H49+I49 -> 0 | M49: =K49+L49 -> 0 | O49: 1 | P49: =N49+O49 -> 1 | Q49: =D49+G49+J49+M49+P49 -> 1 | R49: =Q49+'СОО 1 полугодие'!N50 -> 1 | S49: 34 | T49: =R49/S49 -> 0.029411765
A50: Биология (угл) | D50: =B50+C50 -> 0 | G50: =E50+F50 -> 0 | J50: =H50+I50 -> 0 | M50: =K50+L50 -> 0 | O50: 1 | P50: =N50+O50 -> 1 | Q50: =D50+G50+J50+M50+P50 -> 1 | R50: =Q50+'СОО 1 полугодие'!N51 -> 2 | S50: 102 | T50: =R50/S50 -> 0.019607843
A51: Информатика (база) | D51: =B51+C51 -> 0 | G51: =E51+F51 -> 0 | I51: 1 | J51: =H51+I51 -> 1 | M51: =K51+L51 -> 0 | P51: =N51+O51 -> 0 | Q51: =D51+G51+J51+M51+P51 -> 1 | R51: =Q51+'СОО 1 полугодие'!N52 -> 2 | S51: 34 | T51: =R51/S51 -> 0.058823529
A52: Информатика (угл) | D52: =B52+C52 -> 0 | F52: 1 | G52: =E52+F52 -> 1 | J52: =H52+I52 -> 0 | M52: =K52+L52 -> 0 | O52: 1 | P52: =N52+O52 -> 1 | Q52: =D52+G52+J52+M52+P52 -> 2 | R52: =Q52+'СОО 1 полугодие'!N53 -> 4 | S52: 136 | T52: =R52/S52 -> 0.029411765
A53: Физика (база) | C53: 1 | D53: =B53+C53 -> 1 | F53: 1 | G53: =E53+F53 -> 1 | J53: =H53+I53 -> 0 | M53: =K53+L53 -> 0 | O53: 1 | P53: =N53+O53 -> 1 | Q53: =D53+G53+J53+M53+P53 -> 3 | R53: =Q53+'СОО 1 полугодие'!N54 -> 4 | S53: 68 | T53: =R53/S53 -> 0.058823529
A54: Химия (база) | D54: =B54+C54 -> 0 | G54: =E54+F54 -> 0 | J54: =H54+I54 -> 0 | L54: 1 | M54: =K54+L54 -> 1 | P54: =N54+O54 -> 0 | Q54: =D54+G54+J54+M54+P54 -> 1 | R54: =Q54+'СОО 1 полугодие'!N56 -> 2 | S54: 34 | T54: =R54/S54 -> 0.058823529
A55: Химия (угл) | D55: =B55+C55 -> 0 | F55: 1 | G55: =E55+F55 -> 1 | J55: =H55+I55 -> 0 | L55: 1 | M55: =K55+L55 -> 1 | P55: =N55+O55 -> 0 | Q55: =D55+G55+J55+M55+P55 -> 2 | R55: =Q55+'СОО 1 полугодие'!N57 -> 4 | S55: 102 | T55: =R55/S55 -> 0.039215686
A56: Физическая культура | D56: =B56+C56 -> 0 | G56: =E56+F56 -> 0 | J56: =H56+I56 -> 0 | M56: =K56+L56 -> 0 | O56: 1 | P56: =N56+O56 -> 1 | Q56: =D56+G56+J56+M56+P56 -> 1 | R56: =Q56+'СОО 1 полугодие'!N58 -> 1 | S56: 68 | T56: =R56/S56 -> 0.014705882
A57: ОБЗР | D57: =B57+C57 -> 0 | G57: =E57+F57 -> 0 | J57: =H57+I57 -> 0 | M57: =K57+L57 -> 0 | O57: 1 | P57: =N57+O57 -> 1 | Q57: =D57+G57+J57+M57+P57 -> 1 | R57: =Q57+'СОО 1 полугодие'!N59 -> 1 | S57: 34 | T57: =R57/S57 -> 0.029411765
